BEGIN:VCALENDAR
VERSION:2.0
PRODID:-//Dakota Farm Mutual - ECPv6.15.20//NONSGML v1.0//EN
CALSCALE:GREGORIAN
METHOD:PUBLISH
X-WR-CALNAME:Dakota Farm Mutual
X-ORIGINAL-URL:https://dakotafarmmutual.com
X-WR-CALDESC:Events for Dakota Farm Mutual
REFRESH-INTERVAL;VALUE=DURATION:PT1H
X-Robots-Tag:noindex
X-PUBLISHED-TTL:PT1H
BEGIN:VTIMEZONE
TZID:UTC
BEGIN:STANDARD
TZOFFSETFROM:+0000
TZOFFSETTO:+0000
TZNAME:UTC
DTSTART:20220101T000000
END:STANDARD
END:VTIMEZONE
BEGIN:VEVENT
DTSTART;TZID=UTC:20231211T080000
DTEND;TZID=UTC:20231211T170000
DTSTAMP:20260424T073255
CREATED:20230802T184656Z
LAST-MODIFIED:20231208T210238Z
UID:6469-1702281600-1702314000@dakotafarmmutual.com
SUMMARY:Crystal Out
DESCRIPTION:
URL:https://dakotafarmmutual.com/event/crystal-out-51/
END:VEVENT
BEGIN:VEVENT
DTSTART;TZID=UTC:20231211T080000
DTEND;TZID=UTC:20231211T150000
DTSTAMP:20260424T073255
CREATED:20230823T010444Z
LAST-MODIFIED:20230823T010444Z
UID:6500-1702281600-1702306800@dakotafarmmutual.com
SUMMARY:Cheri out at 3
DESCRIPTION:
URL:https://dakotafarmmutual.com/event/cheri-out-at-3-12/
END:VEVENT
BEGIN:VEVENT
DTSTART;TZID=UTC:20231208T140000
DTEND;TZID=UTC:20231208T170000
DTSTAMP:20260424T073255
CREATED:20231130T205420Z
LAST-MODIFIED:20231130T205420Z
UID:13284-1702044000-1702054800@dakotafarmmutual.com
SUMMARY:Cindy Out @ 2:00
DESCRIPTION:
URL:https://dakotafarmmutual.com/event/cindy-out-200-7/
END:VEVENT
BEGIN:VEVENT
DTSTART;TZID=UTC:20231208T080000
DTEND;TZID=UTC:20231208T170000
DTSTAMP:20260424T073255
CREATED:20230103T213507Z
LAST-MODIFIED:20231201T220556Z
UID:6188-1702022400-1702054800@dakotafarmmutual.com
SUMMARY:Cheri out
DESCRIPTION:
URL:https://dakotafarmmutual.com/event/cheri-out-afternoon-118/
END:VEVENT
BEGIN:VEVENT
DTSTART;TZID=UTC:20231207T120000
DTEND;TZID=UTC:20231207T150000
DTSTAMP:20260424T073255
CREATED:20230823T010414Z
LAST-MODIFIED:20231201T222530Z
UID:6499-1701950400-1701961200@dakotafarmmutual.com
SUMMARY:Cheri out at Noon
DESCRIPTION:
URL:https://dakotafarmmutual.com/event/cheri-out-at-3-11/
END:VEVENT
BEGIN:VEVENT
DTSTART;TZID=UTC:20231205T080000
DTEND;TZID=UTC:20231206T170000
DTSTAMP:20260424T073255
CREATED:20231107T182948Z
LAST-MODIFIED:20231128T042101Z
UID:13234-1701763200-1701882000@dakotafarmmutual.com
SUMMARY:Crystal Out
DESCRIPTION:
URL:https://dakotafarmmutual.com/event/crystal-out-67/
END:VEVENT
BEGIN:VEVENT
DTSTART;TZID=UTC:20231205T080000
DTEND;TZID=UTC:20231205T170000
DTSTAMP:20260424T073255
CREATED:20231128T200806Z
LAST-MODIFIED:20231128T200806Z
UID:13275-1701763200-1701795600@dakotafarmmutual.com
SUMMARY:Cheri long lunch 11:30-1
DESCRIPTION:
URL:https://dakotafarmmutual.com/event/cheri-long-lunch-1130-1-3/
END:VEVENT
BEGIN:VEVENT
DTSTART;TZID=UTC:20231205T080000
DTEND;TZID=UTC:20231205T100000
DTSTAMP:20260424T073255
CREATED:20231204T202724Z
LAST-MODIFIED:20231204T202724Z
UID:13298-1701763200-1701770400@dakotafarmmutual.com
SUMMARY:Debra out
DESCRIPTION:
URL:https://dakotafarmmutual.com/event/debra-out-6/
END:VEVENT
BEGIN:VEVENT
DTSTART;TZID=UTC:20231204T120000
DTEND;TZID=UTC:20231204T140000
DTSTAMP:20260424T073255
CREATED:20230823T010343Z
LAST-MODIFIED:20231201T222459Z
UID:6498-1701691200-1701698400@dakotafarmmutual.com
SUMMARY:Cheri out at Noon
DESCRIPTION:
URL:https://dakotafarmmutual.com/event/cheri-out-at-2-3/
END:VEVENT
BEGIN:VEVENT
DTSTART;TZID=UTC:20231201T080000
DTEND;TZID=UTC:20231201T170000
DTSTAMP:20260424T073255
CREATED:20231107T182700Z
LAST-MODIFIED:20231107T182700Z
UID:13232-1701417600-1701450000@dakotafarmmutual.com
SUMMARY:Crystal Out
DESCRIPTION:
URL:https://dakotafarmmutual.com/event/crystal-out-66/
END:VEVENT
BEGIN:VEVENT
DTSTART;TZID=UTC:20231130T080000
DTEND;TZID=UTC:20231130T140000
DTSTAMP:20260424T073255
CREATED:20230823T010220Z
LAST-MODIFIED:20230823T010220Z
UID:6496-1701331200-1701352800@dakotafarmmutual.com
SUMMARY:Cheri out at 2
DESCRIPTION:
URL:https://dakotafarmmutual.com/event/cheri-out-at-2-2/
END:VEVENT
BEGIN:VEVENT
DTSTART;TZID=UTC:20231129T130000
DTEND;TZID=UTC:20231129T170000
DTSTAMP:20260424T073255
CREATED:20230928T233034Z
LAST-MODIFIED:20231128T042001Z
UID:6553-1701262800-1701277200@dakotafarmmutual.com
SUMMARY:Crystal Out Afternoon
DESCRIPTION:
URL:https://dakotafarmmutual.com/event/crystal-out-59/
END:VEVENT
BEGIN:VEVENT
DTSTART;TZID=UTC:20231128T160000
DTEND;TZID=UTC:20231128T170000
DTSTAMP:20260424T073255
CREATED:20231123T035853Z
LAST-MODIFIED:20231123T035853Z
UID:13266-1701187200-1701190800@dakotafarmmutual.com
SUMMARY:Debra out
DESCRIPTION:
URL:https://dakotafarmmutual.com/event/debra-out-5/
END:VEVENT
BEGIN:VEVENT
DTSTART;TZID=UTC:20231128T080000
DTEND;TZID=UTC:20231128T170000
DTSTAMP:20260424T073255
CREATED:20230823T020002Z
LAST-MODIFIED:20230823T020002Z
UID:13134-1701158400-1701190800@dakotafarmmutual.com
SUMMARY:Cindy Out
DESCRIPTION:
URL:https://dakotafarmmutual.com/event/cindy-out-125/
END:VEVENT
BEGIN:VEVENT
DTSTART;TZID=UTC:20231128T080000
DTEND;TZID=UTC:20231128T150000
DTSTAMP:20260424T073255
CREATED:20230823T010141Z
LAST-MODIFIED:20230823T010141Z
UID:6495-1701158400-1701183600@dakotafarmmutual.com
SUMMARY:Cheri out at 3
DESCRIPTION:
URL:https://dakotafarmmutual.com/event/cheri-out-at-3-9/
END:VEVENT
BEGIN:VEVENT
DTSTART;TZID=UTC:20231127T140000
DTEND;TZID=UTC:20231127T170000
DTSTAMP:20260424T073255
CREATED:20231122T044833Z
LAST-MODIFIED:20231122T044833Z
UID:13264-1701093600-1701104400@dakotafarmmutual.com
SUMMARY:Debra out
DESCRIPTION:
URL:https://dakotafarmmutual.com/event/debra-out-4/
END:VEVENT
BEGIN:VEVENT
DTSTART;TZID=UTC:20231127T080000
DTEND;TZID=UTC:20231127T170000
DTSTAMP:20260424T073255
CREATED:20230907T022216Z
LAST-MODIFIED:20230907T022216Z
UID:13140-1701072000-1701104400@dakotafarmmutual.com
SUMMARY:Cheri Out
DESCRIPTION:
URL:https://dakotafarmmutual.com/event/cheri-out-45/
END:VEVENT
BEGIN:VEVENT
DTSTART;TZID=UTC:20231127T080000
DTEND;TZID=UTC:20231127T170000
DTSTAMP:20260424T073255
CREATED:20230823T015936Z
LAST-MODIFIED:20230823T015936Z
UID:6508-1701072000-1701104400@dakotafarmmutual.com
SUMMARY:Cindy Out
DESCRIPTION:
URL:https://dakotafarmmutual.com/event/cindy-out-124/
END:VEVENT
BEGIN:VEVENT
DTSTART;TZID=UTC:20231124T120000
DTEND;TZID=UTC:20231124T170000
DTSTAMP:20260424T073255
CREATED:20230103T213444Z
LAST-MODIFIED:20230103T213444Z
UID:6187-1700827200-1700845200@dakotafarmmutual.com
SUMMARY:Cheri out afternoon
DESCRIPTION:
URL:https://dakotafarmmutual.com/event/cheri-out-afternoon-117/
END:VEVENT
BEGIN:VEVENT
DTSTART;TZID=UTC:20231123T080000
DTEND;TZID=UTC:20231124T170000
DTSTAMP:20260424T073255
CREATED:20230802T184228Z
LAST-MODIFIED:20230802T184228Z
UID:6467-1700726400-1700845200@dakotafarmmutual.com
SUMMARY:Office Closed
DESCRIPTION:
URL:https://dakotafarmmutual.com/event/office-closed-11/
END:VEVENT
BEGIN:VEVENT
DTSTART;TZID=UTC:20231122T080000
DTEND;TZID=UTC:20231122T170000
DTSTAMP:20260424T073255
CREATED:20231004T024232Z
LAST-MODIFIED:20231004T024232Z
UID:13153-1700640000-1700672400@dakotafarmmutual.com
SUMMARY:Cindy Out
DESCRIPTION:
URL:https://dakotafarmmutual.com/event/cindy-out-129/
END:VEVENT
BEGIN:VEVENT
DTSTART;TZID=UTC:20231122T080000
DTEND;TZID=UTC:20231122T170000
DTSTAMP:20260424T073255
CREATED:20230802T184523Z
LAST-MODIFIED:20231115T012813Z
UID:6468-1700640000-1700672400@dakotafarmmutual.com
SUMMARY:Crystal Out
DESCRIPTION:
URL:https://dakotafarmmutual.com/event/crystal-out-50/
END:VEVENT
BEGIN:VEVENT
DTSTART;TZID=UTC:20231121T143000
DTEND;TZID=UTC:20231121T170000
DTSTAMP:20260424T073255
CREATED:20231115T201727Z
LAST-MODIFIED:20231115T201727Z
UID:13253-1700577000-1700586000@dakotafarmmutual.com
SUMMARY:Cheri out @ 2:45
DESCRIPTION:
URL:https://dakotafarmmutual.com/event/cheri-out-245-4/
END:VEVENT
BEGIN:VEVENT
DTSTART;TZID=UTC:20231120T143000
DTEND;TZID=UTC:20231120T170000
DTSTAMP:20260424T073255
CREATED:20231118T013824Z
LAST-MODIFIED:20231118T013824Z
UID:13259-1700490600-1700499600@dakotafarmmutual.com
SUMMARY:Debra out
DESCRIPTION:
URL:https://dakotafarmmutual.com/event/debra-out-3/
END:VEVENT
BEGIN:VEVENT
DTSTART;TZID=UTC:20231117T120000
DTEND;TZID=UTC:20231117T170000
DTSTAMP:20260424T073255
CREATED:20231030T210649Z
LAST-MODIFIED:20231030T210649Z
UID:13221-1700222400-1700240400@dakotafarmmutual.com
SUMMARY:Cindy Out @ Noon
DESCRIPTION:
URL:https://dakotafarmmutual.com/event/cindy-out-noon-32/
END:VEVENT
BEGIN:VEVENT
DTSTART;TZID=UTC:20231117T080000
DTEND;TZID=UTC:20231117T170000
DTSTAMP:20260424T073255
CREATED:20230808T200716Z
LAST-MODIFIED:20230808T200716Z
UID:6478-1700208000-1700240400@dakotafarmmutual.com
SUMMARY:Crystal Out
DESCRIPTION:
URL:https://dakotafarmmutual.com/event/crystal-out-55/
END:VEVENT
BEGIN:VEVENT
DTSTART;TZID=UTC:20231115T130000
DTEND;TZID=UTC:20231115T170000
DTSTAMP:20260424T073255
CREATED:20230919T235655Z
LAST-MODIFIED:20230919T235655Z
UID:6540-1700053200-1700067600@dakotafarmmutual.com
SUMMARY:Cindy Out @ 1:00
DESCRIPTION:
URL:https://dakotafarmmutual.com/event/cindy-out-100-4/
END:VEVENT
BEGIN:VEVENT
DTSTART;TZID=UTC:20231115T080000
DTEND;TZID=UTC:20231115T170000
DTSTAMP:20260424T073255
CREATED:20221226T193550Z
LAST-MODIFIED:20221226T193550Z
UID:6155-1700035200-1700067600@dakotafarmmutual.com
SUMMARY:Crystal Out
DESCRIPTION:
URL:https://dakotafarmmutual.com/event/crystal-out-330-13/
END:VEVENT
BEGIN:VEVENT
DTSTART;TZID=UTC:20231114T153000
DTEND;TZID=UTC:20231114T170000
DTSTAMP:20260424T073255
CREATED:20231113T212712Z
LAST-MODIFIED:20231113T212712Z
UID:13246-1699975800-1699981200@dakotafarmmutual.com
SUMMARY:Crystal Out at 3:30 p.m.
DESCRIPTION:
URL:https://dakotafarmmutual.com/event/crystal-out-at-330-p-m-27/
END:VEVENT
BEGIN:VEVENT
DTSTART;TZID=UTC:20231113T080000
DTEND;TZID=UTC:20231113T170000
DTSTAMP:20260424T073255
CREATED:20230823T015911Z
LAST-MODIFIED:20230823T015911Z
UID:6507-1699862400-1699894800@dakotafarmmutual.com
SUMMARY:Cindy Out
DESCRIPTION:
URL:https://dakotafarmmutual.com/event/cindy-out-123/
END:VEVENT
END:VCALENDAR