BEGIN:VCALENDAR
VERSION:2.0
PRODID:-//Dakota Farm Mutual - ECPv6.15.20//NONSGML v1.0//EN
CALSCALE:GREGORIAN
METHOD:PUBLISH
X-WR-CALNAME:Dakota Farm Mutual
X-ORIGINAL-URL:https://dakotafarmmutual.com
X-WR-CALDESC:Events for Dakota Farm Mutual
REFRESH-INTERVAL;VALUE=DURATION:PT1H
X-Robots-Tag:noindex
X-PUBLISHED-TTL:PT1H
BEGIN:VTIMEZONE
TZID:UTC
BEGIN:STANDARD
TZOFFSETFROM:+0000
TZOFFSETTO:+0000
TZNAME:UTC
DTSTART:20220101T000000
END:STANDARD
END:VTIMEZONE
BEGIN:VEVENT
DTSTART;TZID=UTC:20240111T080000
DTEND;TZID=UTC:20240111T170000
DTSTAMP:20260422T023555
CREATED:20240109T203902Z
LAST-MODIFIED:20240111T014739Z
UID:13423-1704960000-1704992400@dakotafarmmutual.com
SUMMARY:Cindy Out
DESCRIPTION:
URL:https://dakotafarmmutual.com/event/cindy-out-noon-34/
END:VEVENT
BEGIN:VEVENT
DTSTART;TZID=UTC:20240111T080000
DTEND;TZID=UTC:20240111T120000
DTSTAMP:20260422T023555
CREATED:20231229T232108Z
LAST-MODIFIED:20231229T232108Z
UID:13342-1704960000-1704974400@dakotafarmmutual.com
SUMMARY:Cheri out AM
DESCRIPTION:
URL:https://dakotafarmmutual.com/event/cheri-out-am-34/
END:VEVENT
BEGIN:VEVENT
DTSTART;TZID=UTC:20240109T160000
DTEND;TZID=UTC:20240109T170000
DTSTAMP:20260422T023555
CREATED:20240109T045550Z
LAST-MODIFIED:20240109T045550Z
UID:13421-1704816000-1704819600@dakotafarmmutual.com
SUMMARY:Cheri out at 4
DESCRIPTION:
URL:https://dakotafarmmutual.com/event/cheri-out-at-4-9/
END:VEVENT
BEGIN:VEVENT
DTSTART;TZID=UTC:20240108T140000
DTEND;TZID=UTC:20240108T170000
DTSTAMP:20260422T023555
CREATED:20231126T190435Z
LAST-MODIFIED:20240108T230032Z
UID:13270-1704722400-1704733200@dakotafarmmutual.com
SUMMARY:Crystal Out 2:00 p.m.
DESCRIPTION:
URL:https://dakotafarmmutual.com/event/crystal-out-330-p-m-6/
END:VEVENT
BEGIN:VEVENT
DTSTART;TZID=UTC:20240105T120000
DTEND;TZID=UTC:20240105T170000
DTSTAMP:20260422T023555
CREATED:20231130T013218Z
LAST-MODIFIED:20231130T013218Z
UID:13278-1704456000-1704474000@dakotafarmmutual.com
SUMMARY:Cheri out Afternoon
DESCRIPTION:
URL:https://dakotafarmmutual.com/event/cheri-out-afternoon-121/
END:VEVENT
BEGIN:VEVENT
DTSTART;TZID=UTC:20240104T080000
DTEND;TZID=UTC:20240104T103000
DTSTAMP:20260422T023555
CREATED:20231226T220027Z
LAST-MODIFIED:20231226T220027Z
UID:13334-1704355200-1704364200@dakotafarmmutual.com
SUMMARY:Debra out 8:00 am to 10:30am
DESCRIPTION:
URL:https://dakotafarmmutual.com/event/debra-out-800-am-to-1030am/
END:VEVENT
BEGIN:VEVENT
DTSTART;TZID=UTC:20240102T143000
DTEND;TZID=UTC:20240102T170000
DTSTAMP:20260422T023555
CREATED:20231230T044523Z
LAST-MODIFIED:20231230T044523Z
UID:13349-1704205800-1704214800@dakotafarmmutual.com
SUMMARY:Crystal Out at 2:30 p.m.
DESCRIPTION:
URL:https://dakotafarmmutual.com/event/crystal-out-at-230-p-m/
END:VEVENT
BEGIN:VEVENT
DTSTART;TZID=UTC:20240102T080000
DTEND;TZID=UTC:20240102T170000
DTSTAMP:20260422T023555
CREATED:20231117T013724Z
LAST-MODIFIED:20231117T013724Z
UID:13256-1704182400-1704214800@dakotafarmmutual.com
SUMMARY:Cindy Out
DESCRIPTION:
URL:https://dakotafarmmutual.com/event/cindy-out-133/
END:VEVENT
BEGIN:VEVENT
DTSTART;TZID=UTC:20231229T103000
DTEND;TZID=UTC:20231229T130000
DTSTAMP:20260422T023555
CREATED:20231227T221803Z
LAST-MODIFIED:20231227T221803Z
UID:13340-1703845800-1703854800@dakotafarmmutual.com
SUMMARY:Crystal Out 10:45 a.m. to 1 p.m.
DESCRIPTION:
URL:https://dakotafarmmutual.com/event/crystal-out-1045-a-m-to-1-p-m/
END:VEVENT
BEGIN:VEVENT
DTSTART;TZID=UTC:20231229T080000
DTEND;TZID=UTC:20231229T170000
DTSTAMP:20260422T023555
CREATED:20230919T235918Z
LAST-MODIFIED:20230919T235918Z
UID:6543-1703836800-1703869200@dakotafarmmutual.com
SUMMARY:Cindy Out
DESCRIPTION:
URL:https://dakotafarmmutual.com/event/cindy-out-128/
END:VEVENT
BEGIN:VEVENT
DTSTART;TZID=UTC:20231228T080000
DTEND;TZID=UTC:20231228T170000
DTSTAMP:20260422T023555
CREATED:20231218T233604Z
LAST-MODIFIED:20231218T233604Z
UID:13319-1703750400-1703782800@dakotafarmmutual.com
SUMMARY:Cindy Out
DESCRIPTION:
URL:https://dakotafarmmutual.com/event/cindy-out-136/
END:VEVENT
BEGIN:VEVENT
DTSTART;TZID=UTC:20231222T080000
DTEND;TZID=UTC:20231222T170000
DTSTAMP:20260422T023555
CREATED:20230919T235759Z
LAST-MODIFIED:20230919T235759Z
UID:13146-1703232000-1703264400@dakotafarmmutual.com
SUMMARY:Cindy Out
DESCRIPTION:
URL:https://dakotafarmmutual.com/event/cindy-out-127/
END:VEVENT
BEGIN:VEVENT
DTSTART;TZID=UTC:20231221T080000
DTEND;TZID=UTC:20231228T170000
DTSTAMP:20260422T023555
CREATED:20230807T214109Z
LAST-MODIFIED:20230807T214109Z
UID:6473-1703145600-1703782800@dakotafarmmutual.com
SUMMARY:Cheri Out
DESCRIPTION:
URL:https://dakotafarmmutual.com/event/cheri-out-43/
END:VEVENT
BEGIN:VEVENT
DTSTART;TZID=UTC:20231220T120000
DTEND;TZID=UTC:20231220T170000
DTSTAMP:20260422T023555
CREATED:20231107T183005Z
LAST-MODIFIED:20231214T232012Z
UID:13236-1703073600-1703091600@dakotafarmmutual.com
SUMMARY:Crystal Out Afternoon
DESCRIPTION:
URL:https://dakotafarmmutual.com/event/crystal-out-68/
END:VEVENT
BEGIN:VEVENT
DTSTART;TZID=UTC:20231220T080000
DTEND;TZID=UTC:20231220T170000
DTSTAMP:20260422T023555
CREATED:20231211T202626Z
LAST-MODIFIED:20231211T202626Z
UID:13308-1703059200-1703091600@dakotafarmmutual.com
SUMMARY:Cindy Out
DESCRIPTION:
URL:https://dakotafarmmutual.com/event/cindy-out-135/
END:VEVENT
BEGIN:VEVENT
DTSTART;TZID=UTC:20231219T153000
DTEND;TZID=UTC:20231219T170000
DTSTAMP:20260422T023555
CREATED:20231219T010627Z
LAST-MODIFIED:20231219T010627Z
UID:13321-1702999800-1703005200@dakotafarmmutual.com
SUMMARY:Debra out 3:30-5:00
DESCRIPTION:
URL:https://dakotafarmmutual.com/event/debra-out-330-500/
END:VEVENT
BEGIN:VEVENT
DTSTART;TZID=UTC:20231219T110000
DTEND;TZID=UTC:20231219T170000
DTSTAMP:20260422T023555
CREATED:20231121T021244Z
LAST-MODIFIED:20231121T021622Z
UID:13262-1702983600-1703005200@dakotafarmmutual.com
SUMMARY:Dakota Board Meeting  11 a.m. & 1 p.m.
DESCRIPTION:
URL:https://dakotafarmmutual.com/event/dakota-board-meeting-11-a-m/
END:VEVENT
BEGIN:VEVENT
DTSTART;TZID=UTC:20231218T160000
DTEND;TZID=UTC:20231218T170000
DTSTAMP:20260422T023555
CREATED:20231102T202248Z
LAST-MODIFIED:20231201T222628Z
UID:13226-1702915200-1702918800@dakotafarmmutual.com
SUMMARY:Cheri Out @ Noon
DESCRIPTION:
URL:https://dakotafarmmutual.com/event/cheri-out-4-19/
END:VEVENT
BEGIN:VEVENT
DTSTART;TZID=UTC:20231218T133000
DTEND;TZID=UTC:20231218T160000
DTSTAMP:20260422T023555
CREATED:20231214T230128Z
LAST-MODIFIED:20231214T230128Z
UID:13316-1702906200-1702915200@dakotafarmmutual.com
SUMMARY:Crystal Out 1:45 to 4
DESCRIPTION:
URL:https://dakotafarmmutual.com/event/crystal-out-145-to-4/
END:VEVENT
BEGIN:VEVENT
DTSTART;TZID=UTC:20231215T160000
DTEND;TZID=UTC:20231215T170000
DTSTAMP:20260422T023555
CREATED:20230823T010306Z
LAST-MODIFIED:20231130T013015Z
UID:6497-1702656000-1702659600@dakotafarmmutual.com
SUMMARY:Cheri out at 3
DESCRIPTION:
URL:https://dakotafarmmutual.com/event/cheri-out-at-3-10/
END:VEVENT
BEGIN:VEVENT
DTSTART;TZID=UTC:20231215T080000
DTEND;TZID=UTC:20231215T170000
DTSTAMP:20260422T023555
CREATED:20231212T032215Z
LAST-MODIFIED:20231212T032215Z
UID:13312-1702627200-1702659600@dakotafarmmutual.com
SUMMARY:Debra out all day
DESCRIPTION:
URL:https://dakotafarmmutual.com/event/debra-out-all-day-2/
END:VEVENT
BEGIN:VEVENT
DTSTART;TZID=UTC:20231215T080000
DTEND;TZID=UTC:20231215T170000
DTSTAMP:20260422T023555
CREATED:20231208T210450Z
LAST-MODIFIED:20231208T210450Z
UID:13304-1702627200-1702659600@dakotafarmmutual.com
SUMMARY:Crystal Out
DESCRIPTION:
URL:https://dakotafarmmutual.com/event/crystal-out-70/
END:VEVENT
BEGIN:VEVENT
DTSTART;TZID=UTC:20231214T103000
DTEND;TZID=UTC:20231214T143000
DTSTAMP:20260422T023555
CREATED:20231130T205458Z
LAST-MODIFIED:20231130T205458Z
UID:13286-1702549800-1702564200@dakotafarmmutual.com
SUMMARY:Cindy Out 10:30-2:30
DESCRIPTION:
URL:https://dakotafarmmutual.com/event/cindy-out-1030-230/
END:VEVENT
BEGIN:VEVENT
DTSTART;TZID=UTC:20231214T080000
DTEND;TZID=UTC:20231214T170000
DTSTAMP:20260422T023555
CREATED:20231208T210305Z
LAST-MODIFIED:20231208T210305Z
UID:13302-1702540800-1702573200@dakotafarmmutual.com
SUMMARY:Crystal Out
DESCRIPTION:
URL:https://dakotafarmmutual.com/event/crystal-out-69/
END:VEVENT
BEGIN:VEVENT
DTSTART;TZID=UTC:20231211T080000
DTEND;TZID=UTC:20231211T170000
DTSTAMP:20260422T023555
CREATED:20230802T184656Z
LAST-MODIFIED:20231208T210238Z
UID:6469-1702281600-1702314000@dakotafarmmutual.com
SUMMARY:Crystal Out
DESCRIPTION:
URL:https://dakotafarmmutual.com/event/crystal-out-51/
END:VEVENT
BEGIN:VEVENT
DTSTART;TZID=UTC:20231211T080000
DTEND;TZID=UTC:20231211T150000
DTSTAMP:20260422T023555
CREATED:20230823T010444Z
LAST-MODIFIED:20230823T010444Z
UID:6500-1702281600-1702306800@dakotafarmmutual.com
SUMMARY:Cheri out at 3
DESCRIPTION:
URL:https://dakotafarmmutual.com/event/cheri-out-at-3-12/
END:VEVENT
BEGIN:VEVENT
DTSTART;TZID=UTC:20231208T140000
DTEND;TZID=UTC:20231208T170000
DTSTAMP:20260422T023555
CREATED:20231130T205420Z
LAST-MODIFIED:20231130T205420Z
UID:13284-1702044000-1702054800@dakotafarmmutual.com
SUMMARY:Cindy Out @ 2:00
DESCRIPTION:
URL:https://dakotafarmmutual.com/event/cindy-out-200-7/
END:VEVENT
BEGIN:VEVENT
DTSTART;TZID=UTC:20231208T080000
DTEND;TZID=UTC:20231208T170000
DTSTAMP:20260422T023555
CREATED:20230103T213507Z
LAST-MODIFIED:20231201T220556Z
UID:6188-1702022400-1702054800@dakotafarmmutual.com
SUMMARY:Cheri out
DESCRIPTION:
URL:https://dakotafarmmutual.com/event/cheri-out-afternoon-118/
END:VEVENT
BEGIN:VEVENT
DTSTART;TZID=UTC:20231207T120000
DTEND;TZID=UTC:20231207T150000
DTSTAMP:20260422T023555
CREATED:20230823T010414Z
LAST-MODIFIED:20231201T222530Z
UID:6499-1701950400-1701961200@dakotafarmmutual.com
SUMMARY:Cheri out at Noon
DESCRIPTION:
URL:https://dakotafarmmutual.com/event/cheri-out-at-3-11/
END:VEVENT
BEGIN:VEVENT
DTSTART;TZID=UTC:20231205T080000
DTEND;TZID=UTC:20231206T170000
DTSTAMP:20260422T023555
CREATED:20231107T182948Z
LAST-MODIFIED:20231128T042101Z
UID:13234-1701763200-1701882000@dakotafarmmutual.com
SUMMARY:Crystal Out
DESCRIPTION:
URL:https://dakotafarmmutual.com/event/crystal-out-67/
END:VEVENT
END:VCALENDAR