BEGIN:VCALENDAR
VERSION:2.0
PRODID:-//Dakota Farm Mutual - ECPv6.15.20//NONSGML v1.0//EN
CALSCALE:GREGORIAN
METHOD:PUBLISH
X-WR-CALNAME:Dakota Farm Mutual
X-ORIGINAL-URL:https://dakotafarmmutual.com
X-WR-CALDESC:Events for Dakota Farm Mutual
REFRESH-INTERVAL;VALUE=DURATION:PT1H
X-Robots-Tag:noindex
X-PUBLISHED-TTL:PT1H
BEGIN:VTIMEZONE
TZID:UTC
BEGIN:STANDARD
TZOFFSETFROM:+0000
TZOFFSETTO:+0000
TZNAME:UTC
DTSTART:20220101T000000
END:STANDARD
END:VTIMEZONE
BEGIN:VEVENT
DTSTART;TZID=UTC:20230616T080000
DTEND;TZID=UTC:20230616T170000
DTSTAMP:20260424T103805
CREATED:20230606T024551Z
LAST-MODIFIED:20230606T024551Z
UID:6427-1686902400-1686934800@dakotafarmmutual.com
SUMMARY:Cindy Out
DESCRIPTION:
URL:https://dakotafarmmutual.com/event/cindy-out-113/
END:VEVENT
BEGIN:VEVENT
DTSTART;TZID=UTC:20230619T080000
DTEND;TZID=UTC:20230619T170000
DTSTAMP:20260424T103805
CREATED:20230109T215509Z
LAST-MODIFIED:20230109T215509Z
UID:6213-1687161600-1687194000@dakotafarmmutual.com
SUMMARY:Cindy Out
DESCRIPTION:
URL:https://dakotafarmmutual.com/event/cindy-out-noon-26/
END:VEVENT
BEGIN:VEVENT
DTSTART;TZID=UTC:20230620T080000
DTEND;TZID=UTC:20230620T170000
DTSTAMP:20260424T103805
CREATED:20230215T203249Z
LAST-MODIFIED:20230215T203249Z
UID:6267-1687248000-1687280400@dakotafarmmutual.com
SUMMARY:Cindy Out
DESCRIPTION:
URL:https://dakotafarmmutual.com/event/cindy-out-104/
END:VEVENT
BEGIN:VEVENT
DTSTART;TZID=UTC:20230620T160000
DTEND;TZID=UTC:20230620T170000
DTSTAMP:20260424T103805
CREATED:20230511T013112Z
LAST-MODIFIED:20230511T013112Z
UID:6398-1687276800-1687280400@dakotafarmmutual.com
SUMMARY:Crystal Out at 4 p.m.
DESCRIPTION:
URL:https://dakotafarmmutual.com/event/crystal-out-at-4-p-m-7/
END:VEVENT
BEGIN:VEVENT
DTSTART;TZID=UTC:20230621T080000
DTEND;TZID=UTC:20230621T170000
DTSTAMP:20260424T103805
CREATED:20230109T215156Z
LAST-MODIFIED:20230109T215156Z
UID:6205-1687334400-1687366800@dakotafarmmutual.com
SUMMARY:Cindy Out
DESCRIPTION:
URL:https://dakotafarmmutual.com/event/cindy-out-93/
END:VEVENT
BEGIN:VEVENT
DTSTART;TZID=UTC:20230621T080000
DTEND;TZID=UTC:20230621T170000
DTSTAMP:20260424T103805
CREATED:20230206T200929Z
LAST-MODIFIED:20230206T200929Z
UID:6252-1687334400-1687366800@dakotafarmmutual.com
SUMMARY:Crystal Out
DESCRIPTION:
URL:https://dakotafarmmutual.com/event/crystal-out-a-m-34/
END:VEVENT
BEGIN:VEVENT
DTSTART;TZID=UTC:20230622T080000
DTEND;TZID=UTC:20230622T170000
DTSTAMP:20260424T103805
CREATED:20230109T215215Z
LAST-MODIFIED:20230109T215215Z
UID:6206-1687420800-1687453200@dakotafarmmutual.com
SUMMARY:Cindy Out
DESCRIPTION:
URL:https://dakotafarmmutual.com/event/cindy-out-94/
END:VEVENT
BEGIN:VEVENT
DTSTART;TZID=UTC:20230622T160000
DTEND;TZID=UTC:20230622T170000
DTSTAMP:20260424T103805
CREATED:20230501T153132Z
LAST-MODIFIED:20230501T153132Z
UID:6383-1687449600-1687453200@dakotafarmmutual.com
SUMMARY:Crystal Out at 4 p.m.
DESCRIPTION:
URL:https://dakotafarmmutual.com/event/crystal-out-at-4-p-m-8/
END:VEVENT
BEGIN:VEVENT
DTSTART;TZID=UTC:20230623T080000
DTEND;TZID=UTC:20230623T170000
DTSTAMP:20260424T103805
CREATED:20230103T212528Z
LAST-MODIFIED:20230103T212528Z
UID:6176-1687507200-1687539600@dakotafarmmutual.com
SUMMARY:Cheri out
DESCRIPTION:
URL:https://dakotafarmmutual.com/event/cheri-out-afternoon-106/
END:VEVENT
BEGIN:VEVENT
DTSTART;TZID=UTC:20230623T080000
DTEND;TZID=UTC:20230623T170000
DTSTAMP:20260424T103805
CREATED:20230109T215232Z
LAST-MODIFIED:20230109T215232Z
UID:6207-1687507200-1687539600@dakotafarmmutual.com
SUMMARY:Cindy Out
DESCRIPTION:
URL:https://dakotafarmmutual.com/event/cindy-out-95/
END:VEVENT
BEGIN:VEVENT
DTSTART;TZID=UTC:20230626T080000
DTEND;TZID=UTC:20230626T170000
DTSTAMP:20260424T103805
CREATED:20230109T215251Z
LAST-MODIFIED:20230109T215251Z
UID:6208-1687766400-1687798800@dakotafarmmutual.com
SUMMARY:Cindy Out
DESCRIPTION:
URL:https://dakotafarmmutual.com/event/cindy-out-96/
END:VEVENT
BEGIN:VEVENT
DTSTART;TZID=UTC:20230626T120000
DTEND;TZID=UTC:20230626T150000
DTSTAMP:20260424T103805
CREATED:20230626T190750Z
LAST-MODIFIED:20230626T190750Z
UID:6438-1687780800-1687791600@dakotafarmmutual.com
SUMMARY:Crystal Long Lunch 12-3
DESCRIPTION:
URL:https://dakotafarmmutual.com/event/crystal-long-lunch-12-3/
END:VEVENT
BEGIN:VEVENT
DTSTART;TZID=UTC:20230627T080000
DTEND;TZID=UTC:20230627T100000
DTSTAMP:20260424T103805
CREATED:20230622T010715Z
LAST-MODIFIED:20230622T010715Z
UID:6436-1687852800-1687860000@dakotafarmmutual.com
SUMMARY:Debra out
DESCRIPTION:
URL:https://dakotafarmmutual.com/event/debra-out/
END:VEVENT
BEGIN:VEVENT
DTSTART;TZID=UTC:20230627T160000
DTEND;TZID=UTC:20230627T170000
DTSTAMP:20260424T103805
CREATED:20230501T153231Z
LAST-MODIFIED:20230501T153231Z
UID:6384-1687881600-1687885200@dakotafarmmutual.com
SUMMARY:Crystal Out at 4 p.m.
DESCRIPTION:
URL:https://dakotafarmmutual.com/event/crystal-out-at-4-p-m-9/
END:VEVENT
BEGIN:VEVENT
DTSTART;TZID=UTC:20230628T153000
DTEND;TZID=UTC:20230628T170000
DTSTAMP:20260424T103805
CREATED:20221226T193345Z
LAST-MODIFIED:20221226T193345Z
UID:6150-1687966200-1687971600@dakotafarmmutual.com
SUMMARY:Crystal Out 3:30
DESCRIPTION:
URL:https://dakotafarmmutual.com/event/crystal-out-330-8/
END:VEVENT
BEGIN:VEVENT
DTSTART;TZID=UTC:20230629T120000
DTEND;TZID=UTC:20230629T140000
DTSTAMP:20260424T103805
CREATED:20230619T200841Z
LAST-MODIFIED:20230619T200841Z
UID:6434-1688040000-1688047200@dakotafarmmutual.com
SUMMARY:Cheri long lunch - back 1:30-2
DESCRIPTION:
URL:https://dakotafarmmutual.com/event/cheri-long-lunch-back-130-2/
END:VEVENT
BEGIN:VEVENT
DTSTART;TZID=UTC:20230629T160000
DTEND;TZID=UTC:20230629T170000
DTSTAMP:20260424T103805
CREATED:20230501T153325Z
LAST-MODIFIED:20230501T153325Z
UID:6385-1688054400-1688058000@dakotafarmmutual.com
SUMMARY:Crystal Out at 4 p.m.
DESCRIPTION:
URL:https://dakotafarmmutual.com/event/crystal-out-at-4-p-m-10/
END:VEVENT
BEGIN:VEVENT
DTSTART;TZID=UTC:20230630T120000
DTEND;TZID=UTC:20230630T170000
DTSTAMP:20260424T103805
CREATED:20230427T181300Z
LAST-MODIFIED:20230427T181300Z
UID:6374-1688126400-1688144400@dakotafarmmutual.com
SUMMARY:Crystal Out Afternoon
DESCRIPTION:
URL:https://dakotafarmmutual.com/event/crystal-out-afternoon-125/
END:VEVENT
BEGIN:VEVENT
DTSTART;TZID=UTC:20230703T080000
DTEND;TZID=UTC:20230703T170000
DTSTAMP:20260424T103805
CREATED:20230109T215737Z
LAST-MODIFIED:20230109T215737Z
UID:6214-1688371200-1688403600@dakotafarmmutual.com
SUMMARY:Cindy Out
DESCRIPTION:
URL:https://dakotafarmmutual.com/event/cindy-out-101/
END:VEVENT
BEGIN:VEVENT
DTSTART;TZID=UTC:20230703T080000
DTEND;TZID=UTC:20230703T170000
DTSTAMP:20260424T103805
CREATED:20230301T173203Z
LAST-MODIFIED:20230301T173203Z
UID:6282-1688371200-1688403600@dakotafarmmutual.com
SUMMARY:Crystal Out
DESCRIPTION:
URL:https://dakotafarmmutual.com/event/crystal-out-41/
END:VEVENT
BEGIN:VEVENT
DTSTART;TZID=UTC:20230704T080000
DTEND;TZID=UTC:20230704T170000
DTSTAMP:20260424T103805
CREATED:20230604T165235Z
LAST-MODIFIED:20230604T165235Z
UID:6425-1688457600-1688490000@dakotafarmmutual.com
SUMMARY:Office Closed
DESCRIPTION:
URL:https://dakotafarmmutual.com/event/office-closed-8/
END:VEVENT
BEGIN:VEVENT
DTSTART;TZID=UTC:20230705T080000
DTEND;TZID=UTC:20230705T170000
DTSTAMP:20260424T103805
CREATED:20230109T215756Z
LAST-MODIFIED:20230109T215756Z
UID:6215-1688544000-1688576400@dakotafarmmutual.com
SUMMARY:Cindy Out
DESCRIPTION:
URL:https://dakotafarmmutual.com/event/cindy-out-102/
END:VEVENT
BEGIN:VEVENT
DTSTART;TZID=UTC:20230705T080000
DTEND;TZID=UTC:20230707T170000
DTSTAMP:20260424T103805
CREATED:20230621T015959Z
LAST-MODIFIED:20230621T015959Z
UID:6435-1688544000-1688749200@dakotafarmmutual.com
SUMMARY:Cheri out
DESCRIPTION:
URL:https://dakotafarmmutual.com/event/cheri-out-42/
END:VEVENT
BEGIN:VEVENT
DTSTART;TZID=UTC:20230707T120000
DTEND;TZID=UTC:20230707T170000
DTSTAMP:20260424T103805
CREATED:20230103T212600Z
LAST-MODIFIED:20230103T212600Z
UID:6177-1688731200-1688749200@dakotafarmmutual.com
SUMMARY:Cheri out afternoon
DESCRIPTION:
URL:https://dakotafarmmutual.com/event/cheri-out-afternoon-107/
END:VEVENT
BEGIN:VEVENT
DTSTART;TZID=UTC:20230710T130000
DTEND;TZID=UTC:20230710T170000
DTSTAMP:20260424T103805
CREATED:20230701T022819Z
LAST-MODIFIED:20230701T022819Z
UID:6440-1688994000-1689008400@dakotafarmmutual.com
SUMMARY:Crystal Out Afternoon
DESCRIPTION:
URL:https://dakotafarmmutual.com/event/crystal-out-afternoon-129/
END:VEVENT
BEGIN:VEVENT
DTSTART;TZID=UTC:20230714T080000
DTEND;TZID=UTC:20230714T170000
DTSTAMP:20260424T103805
CREATED:20230708T014224Z
LAST-MODIFIED:20230708T014224Z
UID:6442-1689321600-1689354000@dakotafarmmutual.com
SUMMARY:Cindy Out
DESCRIPTION:
URL:https://dakotafarmmutual.com/event/cindy-out-114/
END:VEVENT
BEGIN:VEVENT
DTSTART;TZID=UTC:20230714T130000
DTEND;TZID=UTC:20230714T170000
DTSTAMP:20260424T103805
CREATED:20230427T181940Z
LAST-MODIFIED:20230427T181940Z
UID:6377-1689339600-1689354000@dakotafarmmutual.com
SUMMARY:Crystal Out Afternoon
DESCRIPTION:
URL:https://dakotafarmmutual.com/event/crystal-out-afternoon-126/
END:VEVENT
BEGIN:VEVENT
DTSTART;TZID=UTC:20230717T120000
DTEND;TZID=UTC:20230717T170000
DTSTAMP:20260424T103805
CREATED:20230717T185520Z
LAST-MODIFIED:20230717T185520Z
UID:6453-1689595200-1689613200@dakotafarmmutual.com
SUMMARY:Cindy out at Noon
DESCRIPTION:
URL:https://dakotafarmmutual.com/event/cindy-out-at-noon-13/
END:VEVENT
BEGIN:VEVENT
DTSTART;TZID=UTC:20230719T080000
DTEND;TZID=UTC:20230721T170000
DTSTAMP:20260424T103805
CREATED:20230301T030008Z
LAST-MODIFIED:20230301T030008Z
UID:6280-1689753600-1689958800@dakotafarmmutual.com
SUMMARY:Crystal Out
DESCRIPTION:
URL:https://dakotafarmmutual.com/event/crystal-out-40/
END:VEVENT
BEGIN:VEVENT
DTSTART;TZID=UTC:20230721T120000
DTEND;TZID=UTC:20230721T170000
DTSTAMP:20260424T103805
CREATED:20230714T013809Z
LAST-MODIFIED:20230714T013809Z
UID:6449-1689940800-1689958800@dakotafarmmutual.com
SUMMARY:Cindy Out @ Noon
DESCRIPTION:
URL:https://dakotafarmmutual.com/event/cindy-out-noon-29/
END:VEVENT
END:VCALENDAR