BEGIN:VCALENDAR
VERSION:2.0
PRODID:-//Dakota Farm Mutual - ECPv6.15.20//NONSGML v1.0//EN
CALSCALE:GREGORIAN
METHOD:PUBLISH
X-WR-CALNAME:Dakota Farm Mutual
X-ORIGINAL-URL:https://dakotafarmmutual.com
X-WR-CALDESC:Events for Dakota Farm Mutual
REFRESH-INTERVAL;VALUE=DURATION:PT1H
X-Robots-Tag:noindex
X-PUBLISHED-TTL:PT1H
BEGIN:VTIMEZONE
TZID:UTC
BEGIN:STANDARD
TZOFFSETFROM:+0000
TZOFFSETTO:+0000
TZNAME:UTC
DTSTART:20230101T000000
END:STANDARD
END:VTIMEZONE
BEGIN:VEVENT
DTSTART;TZID=UTC:20240207T080000
DTEND;TZID=UTC:20240207T170000
DTSTAMP:20260421T212009
CREATED:20231201T184851Z
LAST-MODIFIED:20240131T043546Z
UID:13291-1707292800-1707325200@dakotafarmmutual.com
SUMMARY:Crystal Out
DESCRIPTION:
URL:https://dakotafarmmutual.com/event/crystal-out-afternoon-134/
END:VEVENT
BEGIN:VEVENT
DTSTART;TZID=UTC:20240205T153000
DTEND;TZID=UTC:20240205T170000
DTSTAMP:20260421T212009
CREATED:20240102T184214Z
LAST-MODIFIED:20240102T184214Z
UID:13354-1707147000-1707152400@dakotafarmmutual.com
SUMMARY:Crystal Out 3:30 p.m.
DESCRIPTION:
URL:https://dakotafarmmutual.com/event/crystal-out-330-p-m-8/
END:VEVENT
BEGIN:VEVENT
DTSTART;TZID=UTC:20240202T120000
DTEND;TZID=UTC:20240202T170000
DTSTAMP:20260421T212009
CREATED:20240104T202504Z
LAST-MODIFIED:20240104T202504Z
UID:13361-1706875200-1706893200@dakotafarmmutual.com
SUMMARY:Cheri out Afternoon
DESCRIPTION:
URL:https://dakotafarmmutual.com/event/cheri-out-afternoon-123/
END:VEVENT
BEGIN:VEVENT
DTSTART;TZID=UTC:20240202T080000
DTEND;TZID=UTC:20240202T170000
DTSTAMP:20260421T212009
CREATED:20240116T014909Z
LAST-MODIFIED:20240116T014909Z
UID:13443-1706860800-1706893200@dakotafarmmutual.com
SUMMARY:Cindy Out
DESCRIPTION:
URL:https://dakotafarmmutual.com/event/cindy-out-140/
END:VEVENT
BEGIN:VEVENT
DTSTART;TZID=UTC:20240201T150000
DTEND;TZID=UTC:20240201T170000
DTSTAMP:20260421T212009
CREATED:20240123T215238Z
LAST-MODIFIED:20240125T023343Z
UID:13461-1706799600-1706806800@dakotafarmmutual.com
SUMMARY:Debra out
DESCRIPTION:
URL:https://dakotafarmmutual.com/event/debra-out-noon-to-500pm-2/
END:VEVENT
BEGIN:VEVENT
DTSTART;TZID=UTC:20240201T080000
DTEND;TZID=UTC:20240201T170000
DTSTAMP:20260421T212009
CREATED:20231126T190349Z
LAST-MODIFIED:20231126T190349Z
UID:13268-1706774400-1706806800@dakotafarmmutual.com
SUMMARY:Crystal Out
DESCRIPTION:
URL:https://dakotafarmmutual.com/event/crystal-out-65/
END:VEVENT
BEGIN:VEVENT
DTSTART;TZID=UTC:20240131T093000
DTEND;TZID=UTC:20240131T170000
DTSTAMP:20260421T212009
CREATED:20240124T023319Z
LAST-MODIFIED:20240124T023319Z
UID:13465-1706693400-1706720400@dakotafarmmutual.com
SUMMARY:Cheri in Late
DESCRIPTION:
URL:https://dakotafarmmutual.com/event/cheri-in-late-13/
END:VEVENT
BEGIN:VEVENT
DTSTART;TZID=UTC:20240130T110000
DTEND;TZID=UTC:20240130T130000
DTSTAMP:20260421T212009
CREATED:20240126T042656Z
LAST-MODIFIED:20240126T042656Z
UID:13571-1706612400-1706619600@dakotafarmmutual.com
SUMMARY:Debra out
DESCRIPTION:
URL:https://dakotafarmmutual.com/event/debra-out-7/
END:VEVENT
BEGIN:VEVENT
DTSTART;TZID=UTC:20240129T160000
DTEND;TZID=UTC:20240129T170000
DTSTAMP:20260421T212009
CREATED:20231130T013310Z
LAST-MODIFIED:20231130T013310Z
UID:13280-1706544000-1706547600@dakotafarmmutual.com
SUMMARY:Cheri out @ 4
DESCRIPTION:
URL:https://dakotafarmmutual.com/event/cheri-out-4-20/
END:VEVENT
BEGIN:VEVENT
DTSTART;TZID=UTC:20240129T120000
DTEND;TZID=UTC:20240129T170000
DTSTAMP:20260421T212009
CREATED:20240116T014956Z
LAST-MODIFIED:20240116T014956Z
UID:13445-1706529600-1706547600@dakotafarmmutual.com
SUMMARY:Cindy Out @ Noon
DESCRIPTION:
URL:https://dakotafarmmutual.com/event/cindy-out-noon-35/
END:VEVENT
BEGIN:VEVENT
DTSTART;TZID=UTC:20240129T080000
DTEND;TZID=UTC:20240129T150000
DTSTAMP:20260421T212009
CREATED:20230823T010652Z
LAST-MODIFIED:20230823T010652Z
UID:6502-1706515200-1706540400@dakotafarmmutual.com
SUMMARY:Cheri out at 3
DESCRIPTION:
URL:https://dakotafarmmutual.com/event/cheri-out-at-3-13/
END:VEVENT
BEGIN:VEVENT
DTSTART;TZID=UTC:20240126T120000
DTEND;TZID=UTC:20240126T170000
DTSTAMP:20260421T212009
CREATED:20231222T180858Z
LAST-MODIFIED:20231222T180858Z
UID:13328-1706270400-1706288400@dakotafarmmutual.com
SUMMARY:Crystal Out Afternoon
DESCRIPTION:
URL:https://dakotafarmmutual.com/event/crystal-out-afternoon-136/
END:VEVENT
BEGIN:VEVENT
DTSTART;TZID=UTC:20240126T080000
DTEND;TZID=UTC:20240126T170000
DTSTAMP:20260421T212009
CREATED:20240109T204431Z
LAST-MODIFIED:20240109T204431Z
UID:13425-1706256000-1706288400@dakotafarmmutual.com
SUMMARY:Cindy Out
DESCRIPTION:
URL:https://dakotafarmmutual.com/event/cindy-out-134/
END:VEVENT
BEGIN:VEVENT
DTSTART;TZID=UTC:20240126T080000
DTEND;TZID=UTC:20240126T130000
DTSTAMP:20260421T212009
CREATED:20231229T232239Z
LAST-MODIFIED:20231229T232239Z
UID:13344-1706256000-1706274000@dakotafarmmutual.com
SUMMARY:Cheri out AM
DESCRIPTION:
URL:https://dakotafarmmutual.com/event/cheri-out-am-35/
END:VEVENT
BEGIN:VEVENT
DTSTART;TZID=UTC:20240125T080000
DTEND;TZID=UTC:20240125T130000
DTSTAMP:20260421T212009
CREATED:20230909T155909Z
LAST-MODIFIED:20230909T155909Z
UID:13144-1706169600-1706187600@dakotafarmmutual.com
SUMMARY:Crystal Out A.M.
DESCRIPTION:
URL:https://dakotafarmmutual.com/event/crystal-out-a-m-37/
END:VEVENT
BEGIN:VEVENT
DTSTART;TZID=UTC:20240124T080000
DTEND;TZID=UTC:20240124T170000
DTSTAMP:20260421T212009
CREATED:20240112T011205Z
LAST-MODIFIED:20240112T011205Z
UID:13434-1706083200-1706115600@dakotafarmmutual.com
SUMMARY:Cheri Out
DESCRIPTION:
URL:https://dakotafarmmutual.com/event/cheri-out-54/
END:VEVENT
BEGIN:VEVENT
DTSTART;TZID=UTC:20240123T120000
DTEND;TZID=UTC:20240123T140000
DTSTAMP:20260421T212009
CREATED:20240122T203946Z
LAST-MODIFIED:20240122T203946Z
UID:13458-1706011200-1706018400@dakotafarmmutual.com
SUMMARY:Cheri long lunch
DESCRIPTION:
URL:https://dakotafarmmutual.com/event/cheri-long-lunch-4/
END:VEVENT
BEGIN:VEVENT
DTSTART;TZID=UTC:20240122T080000
DTEND;TZID=UTC:20240122T160000
DTSTAMP:20260421T212009
CREATED:20230823T010540Z
LAST-MODIFIED:20230823T010540Z
UID:6501-1705910400-1705939200@dakotafarmmutual.com
SUMMARY:Cheri out at 4
DESCRIPTION:
URL:https://dakotafarmmutual.com/event/cheri-out-at-4-8/
END:VEVENT
BEGIN:VEVENT
DTSTART;TZID=UTC:20240119T120000
DTEND;TZID=UTC:20240119T170000
DTSTAMP:20260421T212009
CREATED:20240104T202408Z
LAST-MODIFIED:20240104T202408Z
UID:13359-1705665600-1705683600@dakotafarmmutual.com
SUMMARY:Cheri out Afternoon
DESCRIPTION:
URL:https://dakotafarmmutual.com/event/cheri-out-afternoon-122/
END:VEVENT
BEGIN:VEVENT
DTSTART;TZID=UTC:20240118T130000
DTEND;TZID=UTC:20240118T170000
DTSTAMP:20260421T212009
CREATED:20240112T230913Z
LAST-MODIFIED:20240117T203841Z
UID:13438-1705582800-1705597200@dakotafarmmutual.com
SUMMARY:Crystal Out Afternoon (agency visit Brookings)
DESCRIPTION:
URL:https://dakotafarmmutual.com/event/crystal-out-2-p-m-2/
END:VEVENT
BEGIN:VEVENT
DTSTART;TZID=UTC:20240116T120000
DTEND;TZID=UTC:20240116T170000
DTSTAMP:20260421T212009
CREATED:20231230T033310Z
LAST-MODIFIED:20231230T033310Z
UID:13347-1705406400-1705424400@dakotafarmmutual.com
SUMMARY:Cheri out @ Noon
DESCRIPTION:
URL:https://dakotafarmmutual.com/event/cheri-out-noon-9/
END:VEVENT
BEGIN:VEVENT
DTSTART;TZID=UTC:20240112T160000
DTEND;TZID=UTC:20240112T170000
DTSTAMP:20260421T212009
CREATED:20240105T203849Z
LAST-MODIFIED:20240105T203849Z
UID:13414-1705075200-1705078800@dakotafarmmutual.com
SUMMARY:Cheri out 4:15
DESCRIPTION:
URL:https://dakotafarmmutual.com/event/cheri-out-415-5/
END:VEVENT
BEGIN:VEVENT
DTSTART;TZID=UTC:20240112T120000
DTEND;TZID=UTC:20240112T170000
DTSTAMP:20260421T212009
CREATED:20231226T234453Z
LAST-MODIFIED:20231226T234453Z
UID:13337-1705060800-1705078800@dakotafarmmutual.com
SUMMARY:Cindy Out @ Noon
DESCRIPTION:
URL:https://dakotafarmmutual.com/event/cindy-out-noon-33/
END:VEVENT
BEGIN:VEVENT
DTSTART;TZID=UTC:20240112T120000
DTEND;TZID=UTC:20240112T170000
DTSTAMP:20260421T212009
CREATED:20231222T180816Z
LAST-MODIFIED:20231222T180816Z
UID:13326-1705060800-1705078800@dakotafarmmutual.com
SUMMARY:Crystal Out Afternoon
DESCRIPTION:
URL:https://dakotafarmmutual.com/event/crystal-out-afternoon-135/
END:VEVENT
BEGIN:VEVENT
DTSTART;TZID=UTC:20240111T080000
DTEND;TZID=UTC:20240111T170000
DTSTAMP:20260421T212009
CREATED:20240109T203902Z
LAST-MODIFIED:20240111T014739Z
UID:13423-1704960000-1704992400@dakotafarmmutual.com
SUMMARY:Cindy Out
DESCRIPTION:
URL:https://dakotafarmmutual.com/event/cindy-out-noon-34/
END:VEVENT
BEGIN:VEVENT
DTSTART;TZID=UTC:20240111T080000
DTEND;TZID=UTC:20240111T120000
DTSTAMP:20260421T212009
CREATED:20231229T232108Z
LAST-MODIFIED:20231229T232108Z
UID:13342-1704960000-1704974400@dakotafarmmutual.com
SUMMARY:Cheri out AM
DESCRIPTION:
URL:https://dakotafarmmutual.com/event/cheri-out-am-34/
END:VEVENT
BEGIN:VEVENT
DTSTART;TZID=UTC:20240109T160000
DTEND;TZID=UTC:20240109T170000
DTSTAMP:20260421T212009
CREATED:20240109T045550Z
LAST-MODIFIED:20240109T045550Z
UID:13421-1704816000-1704819600@dakotafarmmutual.com
SUMMARY:Cheri out at 4
DESCRIPTION:
URL:https://dakotafarmmutual.com/event/cheri-out-at-4-9/
END:VEVENT
BEGIN:VEVENT
DTSTART;TZID=UTC:20240108T140000
DTEND;TZID=UTC:20240108T170000
DTSTAMP:20260421T212009
CREATED:20231126T190435Z
LAST-MODIFIED:20240108T230032Z
UID:13270-1704722400-1704733200@dakotafarmmutual.com
SUMMARY:Crystal Out 2:00 p.m.
DESCRIPTION:
URL:https://dakotafarmmutual.com/event/crystal-out-330-p-m-6/
END:VEVENT
BEGIN:VEVENT
DTSTART;TZID=UTC:20240105T120000
DTEND;TZID=UTC:20240105T170000
DTSTAMP:20260421T212009
CREATED:20231130T013218Z
LAST-MODIFIED:20231130T013218Z
UID:13278-1704456000-1704474000@dakotafarmmutual.com
SUMMARY:Cheri out Afternoon
DESCRIPTION:
URL:https://dakotafarmmutual.com/event/cheri-out-afternoon-121/
END:VEVENT
BEGIN:VEVENT
DTSTART;TZID=UTC:20240104T080000
DTEND;TZID=UTC:20240104T103000
DTSTAMP:20260421T212009
CREATED:20231226T220027Z
LAST-MODIFIED:20231226T220027Z
UID:13334-1704355200-1704364200@dakotafarmmutual.com
SUMMARY:Debra out 8:00 am to 10:30am
DESCRIPTION:
URL:https://dakotafarmmutual.com/event/debra-out-800-am-to-1030am/
END:VEVENT
END:VCALENDAR