BEGIN:VCALENDAR
VERSION:2.0
PRODID:-//Dakota Farm Mutual - ECPv6.15.20//NONSGML v1.0//EN
CALSCALE:GREGORIAN
METHOD:PUBLISH
X-ORIGINAL-URL:https://dakotafarmmutual.com
X-WR-CALDESC:Events for Dakota Farm Mutual
REFRESH-INTERVAL;VALUE=DURATION:PT1H
X-Robots-Tag:noindex
X-PUBLISHED-TTL:PT1H
BEGIN:VTIMEZONE
TZID:UTC
BEGIN:STANDARD
TZOFFSETFROM:+0000
TZOFFSETTO:+0000
TZNAME:UTC
DTSTART:20220101T000000
END:STANDARD
END:VTIMEZONE
BEGIN:VEVENT
DTSTART;TZID=UTC:20230505T080000
DTEND;TZID=UTC:20230505T090000
DTSTAMP:20260421T222158
CREATED:20230505T020550Z
LAST-MODIFIED:20230505T020550Z
UID:6389-1683273600-1683277200@dakotafarmmutual.com
SUMMARY:Debra out 8:00-9:00
DESCRIPTION:
URL:https://dakotafarmmutual.com/event/debra-out-800-900/
END:VEVENT
BEGIN:VEVENT
DTSTART;TZID=UTC:20230505T080000
DTEND;TZID=UTC:20230505T170000
DTSTAMP:20260421T222158
CREATED:20230411T191804Z
LAST-MODIFIED:20230411T191804Z
UID:6355-1683273600-1683306000@dakotafarmmutual.com
SUMMARY:Crystal Out
DESCRIPTION:
URL:https://dakotafarmmutual.com/event/crystal-out-afternoon-122/
END:VEVENT
BEGIN:VEVENT
DTSTART;TZID=UTC:20230508T080000
DTEND;TZID=UTC:20230508T120000
DTSTAMP:20260421T222158
CREATED:20230505T183855Z
LAST-MODIFIED:20230505T183855Z
UID:6391-1683532800-1683547200@dakotafarmmutual.com
SUMMARY:Crystal Out A.M.-Meet with John Knight
DESCRIPTION:
URL:https://dakotafarmmutual.com/event/crystal-out-a-m-meet-with-john-knight/
END:VEVENT
BEGIN:VEVENT
DTSTART;TZID=UTC:20230508T080000
DTEND;TZID=UTC:20230508T170000
DTSTAMP:20260421T222158
CREATED:20230109T215435Z
LAST-MODIFIED:20230109T215435Z
UID:6212-1683532800-1683565200@dakotafarmmutual.com
SUMMARY:Cindy Out
DESCRIPTION:
URL:https://dakotafarmmutual.com/event/cindy-out-99/
END:VEVENT
BEGIN:VEVENT
DTSTART;TZID=UTC:20230508T133000
DTEND;TZID=UTC:20230508T170000
DTSTAMP:20260421T222158
CREATED:20230314T014755Z
LAST-MODIFIED:20230314T014755Z
UID:6309-1683552600-1683565200@dakotafarmmutual.com
SUMMARY:Cheri out 1:30
DESCRIPTION:
URL:https://dakotafarmmutual.com/event/cheri-out-130/
END:VEVENT
BEGIN:VEVENT
DTSTART;TZID=UTC:20230509T080000
DTEND;TZID=UTC:20230509T170000
DTSTAMP:20260421T222158
CREATED:20230509T181153Z
LAST-MODIFIED:20230509T181153Z
UID:6393-1683619200-1683651600@dakotafarmmutual.com
SUMMARY:Cheri long lunch 11:30-1:30
DESCRIPTION:
URL:https://dakotafarmmutual.com/event/cheri-long-lunch-1130-130-5/
END:VEVENT
BEGIN:VEVENT
DTSTART;TZID=UTC:20230510T080000
DTEND;TZID=UTC:20230510T170000
DTSTAMP:20260421T222158
CREATED:20230323T182846Z
LAST-MODIFIED:20230323T182846Z
UID:6326-1683705600-1683738000@dakotafarmmutual.com
SUMMARY:Crystal Out - Small Claims
DESCRIPTION:
URL:https://dakotafarmmutual.com/event/crystal-out-small-claims/
END:VEVENT
BEGIN:VEVENT
DTSTART;TZID=UTC:20230510T080000
DTEND;TZID=UTC:20230510T170000
DTSTAMP:20260421T222158
CREATED:20230405T184107Z
LAST-MODIFIED:20230405T184107Z
UID:6341-1683705600-1683738000@dakotafarmmutual.com
SUMMARY:Cindy Out
DESCRIPTION:
URL:https://dakotafarmmutual.com/event/cindy-out-105/
END:VEVENT
BEGIN:VEVENT
DTSTART;TZID=UTC:20230511T110000
DTEND;TZID=UTC:20230511T113000
DTSTAMP:20260421T222158
CREATED:20230510T021627Z
LAST-MODIFIED:20230510T021627Z
UID:6396-1683802800-1683804600@dakotafarmmutual.com
SUMMARY:New Hope Cancer Walk Photo
DESCRIPTION:
URL:https://dakotafarmmutual.com/event/new-hope-cancer-walk-photo/
END:VEVENT
BEGIN:VEVENT
DTSTART;TZID=UTC:20230512T080000
DTEND;TZID=UTC:20230512T170000
DTSTAMP:20260421T222158
CREATED:20230103T212413Z
LAST-MODIFIED:20230103T212413Z
UID:6173-1683878400-1683910800@dakotafarmmutual.com
SUMMARY:Cheri out
DESCRIPTION:
URL:https://dakotafarmmutual.com/event/cheri-out-afternoon-103/
END:VEVENT
BEGIN:VEVENT
DTSTART;TZID=UTC:20230515T080000
DTEND;TZID=UTC:20230515T170000
DTSTAMP:20260421T222158
CREATED:20230314T014825Z
LAST-MODIFIED:20230314T014825Z
UID:6310-1684137600-1684170000@dakotafarmmutual.com
SUMMARY:Cheri out 8-5
DESCRIPTION:
URL:https://dakotafarmmutual.com/event/cheri-out-time-tbd/
END:VEVENT
BEGIN:VEVENT
DTSTART;TZID=UTC:20230517T120000
DTEND;TZID=UTC:20230517T170000
DTSTAMP:20260421T222158
CREATED:20230516T232036Z
LAST-MODIFIED:20230516T232036Z
UID:6407-1684324800-1684342800@dakotafarmmutual.com
SUMMARY:Cindy Out Morning/Dentist Appointment
DESCRIPTION:
URL:https://dakotafarmmutual.com/event/cindy-out-morning-dentist-appointment/
END:VEVENT
BEGIN:VEVENT
DTSTART;TZID=UTC:20230518T160000
DTEND;TZID=UTC:20230518T170000
DTSTAMP:20260421T222158
CREATED:20230501T152000Z
LAST-MODIFIED:20230501T152000Z
UID:6380-1684425600-1684429200@dakotafarmmutual.com
SUMMARY:Crystal Out at 4 p.m.
DESCRIPTION:
URL:https://dakotafarmmutual.com/event/crystal-out-at-4-p-m-5/
END:VEVENT
BEGIN:VEVENT
DTSTART;TZID=UTC:20230519T120000
DTEND;TZID=UTC:20230519T170000
DTSTAMP:20260421T222158
CREATED:20230103T212436Z
LAST-MODIFIED:20230103T212436Z
UID:6174-1684497600-1684515600@dakotafarmmutual.com
SUMMARY:Cheri out afternoon
DESCRIPTION:Switched w/ Crystal
URL:https://dakotafarmmutual.com/event/cheri-out-afternoon-104/
END:VEVENT
BEGIN:VEVENT
DTSTART;TZID=UTC:20230522T130000
DTEND;TZID=UTC:20230522T170000
DTSTAMP:20260421T222158
CREATED:20230512T025418Z
LAST-MODIFIED:20230512T025418Z
UID:6400-1684760400-1684774800@dakotafarmmutual.com
SUMMARY:Cindy out 8-1
DESCRIPTION:
URL:https://dakotafarmmutual.com/event/cindy-out-8-1/
END:VEVENT
BEGIN:VEVENT
DTSTART;TZID=UTC:20230523T140000
DTEND;TZID=UTC:20230523T170000
DTSTAMP:20260421T222158
CREATED:20230511T225030Z
LAST-MODIFIED:20230511T225030Z
UID:6399-1684850400-1684861200@dakotafarmmutual.com
SUMMARY:Crystal Out 2:15
DESCRIPTION:
URL:https://dakotafarmmutual.com/event/crystal-out-215/
END:VEVENT
BEGIN:VEVENT
DTSTART;TZID=UTC:20230524T090000
DTEND;TZID=UTC:20230524T130000
DTSTAMP:20260421T222158
CREATED:20230522T183549Z
LAST-MODIFIED:20230522T183549Z
UID:6418-1684918800-1684933200@dakotafarmmutual.com
SUMMARY:Crystal Out 9:15-1
DESCRIPTION:
URL:https://dakotafarmmutual.com/event/crystal-out-915-1/
END:VEVENT
BEGIN:VEVENT
DTSTART;TZID=UTC:20230525T120000
DTEND;TZID=UTC:20230525T170000
DTSTAMP:20260421T222158
CREATED:20230501T153526Z
LAST-MODIFIED:20230501T153526Z
UID:6386-1685016000-1685034000@dakotafarmmutual.com
SUMMARY:Crystal Out Afternoon
DESCRIPTION:
URL:https://dakotafarmmutual.com/event/crystal-out-afternoon-128/
END:VEVENT
BEGIN:VEVENT
DTSTART;TZID=UTC:20230526T080000
DTEND;TZID=UTC:20230526T170000
DTSTAMP:20260421T222158
CREATED:20230215T203206Z
LAST-MODIFIED:20230215T203206Z
UID:6266-1685088000-1685120400@dakotafarmmutual.com
SUMMARY:Cindy Out
DESCRIPTION:
URL:https://dakotafarmmutual.com/event/cindy-out-98/
END:VEVENT
BEGIN:VEVENT
DTSTART;TZID=UTC:20230526T120000
DTEND;TZID=UTC:20230526T170000
DTSTAMP:20260421T222158
CREATED:20230411T191855Z
LAST-MODIFIED:20230411T191855Z
UID:6356-1685102400-1685120400@dakotafarmmutual.com
SUMMARY:Crystal Out
DESCRIPTION:Switched w/ Cheri
URL:https://dakotafarmmutual.com/event/crystal-out-afternoon-123/
END:VEVENT
BEGIN:VEVENT
DTSTART;TZID=UTC:20230529T080000
DTEND;TZID=UTC:20230529T170000
DTSTAMP:20260421T222158
CREATED:20230501T153545Z
LAST-MODIFIED:20230501T153545Z
UID:6387-1685347200-1685379600@dakotafarmmutual.com
SUMMARY:Office Closed - Holiday
DESCRIPTION:
URL:https://dakotafarmmutual.com/event/office-closed-holiday-9/
END:VEVENT
BEGIN:VEVENT
DTSTART;TZID=UTC:20230530T160000
DTEND;TZID=UTC:20230530T170000
DTSTAMP:20260421T222158
CREATED:20230501T152052Z
LAST-MODIFIED:20230501T152052Z
UID:6381-1685462400-1685466000@dakotafarmmutual.com
SUMMARY:Crystal Out at 4 p.m.
DESCRIPTION:
URL:https://dakotafarmmutual.com/event/crystal-out-at-4-p-m-6/
END:VEVENT
BEGIN:VEVENT
DTSTART;TZID=UTC:20230531T080000
DTEND;TZID=UTC:20230531T170000
DTSTAMP:20260421T222158
CREATED:20230518T181641Z
LAST-MODIFIED:20230518T181641Z
UID:6412-1685520000-1685552400@dakotafarmmutual.com
SUMMARY:Website Photos-Parkston
DESCRIPTION:
URL:https://dakotafarmmutual.com/event/website-photos-parkston/
END:VEVENT
BEGIN:VEVENT
DTSTART;TZID=UTC:20230601T080000
DTEND;TZID=UTC:20230601T170000
DTSTAMP:20260421T222158
CREATED:20230512T025440Z
LAST-MODIFIED:20230512T025440Z
UID:6401-1685606400-1685638800@dakotafarmmutual.com
SUMMARY:Cindy Out
DESCRIPTION:
URL:https://dakotafarmmutual.com/event/cindy-out-111/
END:VEVENT
BEGIN:VEVENT
DTSTART;TZID=UTC:20230601T080000
DTEND;TZID=UTC:20230601T170000
DTSTAMP:20260421T222158
CREATED:20230518T181713Z
LAST-MODIFIED:20230518T181713Z
UID:6413-1685606400-1685638800@dakotafarmmutual.com
SUMMARY:Website Photos-Brandt
DESCRIPTION:
URL:https://dakotafarmmutual.com/event/website-photos-brandt/
END:VEVENT
BEGIN:VEVENT
DTSTART;TZID=UTC:20230602T080000
DTEND;TZID=UTC:20230602T170000
DTSTAMP:20260421T222158
CREATED:20230405T184251Z
LAST-MODIFIED:20230405T184251Z
UID:6344-1685692800-1685725200@dakotafarmmutual.com
SUMMARY:Cindy Out
DESCRIPTION:
URL:https://dakotafarmmutual.com/event/cindy-out-107/
END:VEVENT
BEGIN:VEVENT
DTSTART;TZID=UTC:20230602T120000
DTEND;TZID=UTC:20230602T170000
DTSTAMP:20260421T222158
CREATED:20230411T191924Z
LAST-MODIFIED:20230411T191924Z
UID:6357-1685707200-1685725200@dakotafarmmutual.com
SUMMARY:Crystal Out Afternoon
DESCRIPTION:
URL:https://dakotafarmmutual.com/event/crystal-out-afternoon-124/
END:VEVENT
BEGIN:VEVENT
DTSTART;TZID=UTC:20230605T120000
DTEND;TZID=UTC:20230605T170000
DTSTAMP:20260421T222158
CREATED:20230602T182713Z
LAST-MODIFIED:20230602T182713Z
UID:6424-1685966400-1685984400@dakotafarmmutual.com
SUMMARY:Debra out noon to 5
DESCRIPTION:
URL:https://dakotafarmmutual.com/event/debra-out-noon-to-5-2/
END:VEVENT
BEGIN:VEVENT
DTSTART;TZID=UTC:20230606T130000
DTEND;TZID=UTC:20230606T170000
DTSTAMP:20260421T222158
CREATED:20230518T190146Z
LAST-MODIFIED:20230518T190146Z
UID:6416-1686056400-1686070800@dakotafarmmutual.com
SUMMARY:Cindy Out @ 1:00
DESCRIPTION:
URL:https://dakotafarmmutual.com/event/cindy-out-100-3/
END:VEVENT
BEGIN:VEVENT
DTSTART;TZID=UTC:20230607T080000
DTEND;TZID=UTC:20230607T170000
DTSTAMP:20260421T222158
CREATED:20230522T190022Z
LAST-MODIFIED:20230522T190022Z
UID:6420-1686124800-1686157200@dakotafarmmutual.com
SUMMARY:Cheri out
DESCRIPTION:
URL:https://dakotafarmmutual.com/event/cheri-out-at-1130/
END:VEVENT
END:VCALENDAR