BEGIN:VCALENDAR
VERSION:2.0
PRODID:-//Dakota Farm Mutual - ECPv6.15.20//NONSGML v1.0//EN
CALSCALE:GREGORIAN
METHOD:PUBLISH
X-ORIGINAL-URL:https://dakotafarmmutual.com
X-WR-CALDESC:Events for Dakota Farm Mutual
REFRESH-INTERVAL;VALUE=DURATION:PT1H
X-Robots-Tag:noindex
X-PUBLISHED-TTL:PT1H
BEGIN:VTIMEZONE
TZID:America/Chicago
BEGIN:DAYLIGHT
TZOFFSETFROM:-0600
TZOFFSETTO:-0500
TZNAME:CDT
DTSTART:20240310T080000
END:DAYLIGHT
BEGIN:STANDARD
TZOFFSETFROM:-0500
TZOFFSETTO:-0600
TZNAME:CST
DTSTART:20241103T070000
END:STANDARD
BEGIN:DAYLIGHT
TZOFFSETFROM:-0600
TZOFFSETTO:-0500
TZNAME:CDT
DTSTART:20250309T080000
END:DAYLIGHT
BEGIN:STANDARD
TZOFFSETFROM:-0500
TZOFFSETTO:-0600
TZNAME:CST
DTSTART:20251102T070000
END:STANDARD
BEGIN:DAYLIGHT
TZOFFSETFROM:-0600
TZOFFSETTO:-0500
TZNAME:CDT
DTSTART:20260308T080000
END:DAYLIGHT
BEGIN:STANDARD
TZOFFSETFROM:-0500
TZOFFSETTO:-0600
TZNAME:CST
DTSTART:20261101T070000
END:STANDARD
END:VTIMEZONE
BEGIN:VEVENT
DTSTART;TZID=America/Chicago:20250403T080000
DTEND;TZID=America/Chicago:20250403T120000
DTSTAMP:20260421T191758
CREATED:20250307T162549Z
LAST-MODIFIED:20250307T162549Z
UID:14510-1743667200-1743681600@dakotafarmmutual.com
SUMMARY:Cindy Out 8-12
DESCRIPTION:
URL:https://dakotafarmmutual.com/event/cindy-out-8-12-4/
END:VEVENT
BEGIN:VEVENT
DTSTART;TZID=America/Chicago:20250403T120000
DTEND;TZID=America/Chicago:20250403T170000
DTSTAMP:20260421T191758
CREATED:20250328T193854Z
LAST-MODIFIED:20250328T193854Z
UID:14559-1743681600-1743699600@dakotafarmmutual.com
SUMMARY:Cheri out @ noon
DESCRIPTION:
URL:https://dakotafarmmutual.com/event/cheri-out-noon-11/
END:VEVENT
END:VCALENDAR