BEGIN:VCALENDAR
VERSION:2.0
PRODID:-//Dakota Farm Mutual - ECPv6.15.20//NONSGML v1.0//EN
CALSCALE:GREGORIAN
METHOD:PUBLISH
X-WR-CALNAME:Dakota Farm Mutual
X-ORIGINAL-URL:https://dakotafarmmutual.com
X-WR-CALDESC:Events for Dakota Farm Mutual
REFRESH-INTERVAL;VALUE=DURATION:PT1H
X-Robots-Tag:noindex
X-PUBLISHED-TTL:PT1H
BEGIN:VTIMEZONE
TZID:America/Chicago
BEGIN:DAYLIGHT
TZOFFSETFROM:-0600
TZOFFSETTO:-0500
TZNAME:CDT
DTSTART:20240310T080000
END:DAYLIGHT
BEGIN:STANDARD
TZOFFSETFROM:-0500
TZOFFSETTO:-0600
TZNAME:CST
DTSTART:20241103T070000
END:STANDARD
BEGIN:DAYLIGHT
TZOFFSETFROM:-0600
TZOFFSETTO:-0500
TZNAME:CDT
DTSTART:20250309T080000
END:DAYLIGHT
BEGIN:STANDARD
TZOFFSETFROM:-0500
TZOFFSETTO:-0600
TZNAME:CST
DTSTART:20251102T070000
END:STANDARD
BEGIN:DAYLIGHT
TZOFFSETFROM:-0600
TZOFFSETTO:-0500
TZNAME:CDT
DTSTART:20260308T080000
END:DAYLIGHT
BEGIN:STANDARD
TZOFFSETFROM:-0500
TZOFFSETTO:-0600
TZNAME:CST
DTSTART:20261101T070000
END:STANDARD
END:VTIMEZONE
BEGIN:VEVENT
DTSTART;TZID=America/Chicago:20250206T080000
DTEND;TZID=America/Chicago:20250206T170000
DTSTAMP:20260421T195044
CREATED:20250203T145912Z
LAST-MODIFIED:20250203T145912Z
UID:14438-1738828800-1738861200@dakotafarmmutual.com
SUMMARY:Cindy Out
DESCRIPTION:
URL:https://dakotafarmmutual.com/event/cindy-out-186/
END:VEVENT
BEGIN:VEVENT
DTSTART;TZID=America/Chicago:20250206T120000
DTEND;TZID=America/Chicago:20250206T170000
DTSTAMP:20260421T195044
CREATED:20241029T205953Z
LAST-MODIFIED:20241029T205953Z
UID:14234-1738843200-1738861200@dakotafarmmutual.com
SUMMARY:Cheri out at noon
DESCRIPTION:
URL:https://dakotafarmmutual.com/event/cheri-out-at-noon-28/
END:VEVENT
BEGIN:VEVENT
DTSTART;TZID=America/Chicago:20250206T153000
DTEND;TZID=America/Chicago:20250206T170000
DTSTAMP:20260421T195044
CREATED:20250204T172142Z
LAST-MODIFIED:20250204T172142Z
UID:14443-1738855800-1738861200@dakotafarmmutual.com
SUMMARY:Debra out @3:30pm
DESCRIPTION:
URL:https://dakotafarmmutual.com/event/debra-out-330pm/
END:VEVENT
END:VCALENDAR