BEGIN:VCALENDAR
VERSION:2.0
PRODID:-//Dakota Farm Mutual - ECPv6.15.20//NONSGML v1.0//EN
CALSCALE:GREGORIAN
METHOD:PUBLISH
X-WR-CALNAME:Dakota Farm Mutual
X-ORIGINAL-URL:https://dakotafarmmutual.com
X-WR-CALDESC:Events for Dakota Farm Mutual
REFRESH-INTERVAL;VALUE=DURATION:PT1H
X-Robots-Tag:noindex
X-PUBLISHED-TTL:PT1H
BEGIN:VTIMEZONE
TZID:America/Chicago
BEGIN:DAYLIGHT
TZOFFSETFROM:-0600
TZOFFSETTO:-0500
TZNAME:CDT
DTSTART:20240310T080000
END:DAYLIGHT
BEGIN:STANDARD
TZOFFSETFROM:-0500
TZOFFSETTO:-0600
TZNAME:CST
DTSTART:20241103T070000
END:STANDARD
BEGIN:DAYLIGHT
TZOFFSETFROM:-0600
TZOFFSETTO:-0500
TZNAME:CDT
DTSTART:20250309T080000
END:DAYLIGHT
BEGIN:STANDARD
TZOFFSETFROM:-0500
TZOFFSETTO:-0600
TZNAME:CST
DTSTART:20251102T070000
END:STANDARD
BEGIN:DAYLIGHT
TZOFFSETFROM:-0600
TZOFFSETTO:-0500
TZNAME:CDT
DTSTART:20260308T080000
END:DAYLIGHT
BEGIN:STANDARD
TZOFFSETFROM:-0500
TZOFFSETTO:-0600
TZNAME:CST
DTSTART:20261101T070000
END:STANDARD
END:VTIMEZONE
BEGIN:VEVENT
DTSTART;TZID=America/Chicago:20250205T080000
DTEND;TZID=America/Chicago:20250205T170000
DTSTAMP:20260421T195014
CREATED:20250122T174739Z
LAST-MODIFIED:20250122T174739Z
UID:14415-1738742400-1738774800@dakotafarmmutual.com
SUMMARY:Cheri Long Lunch 11:30-1:30
DESCRIPTION:
URL:https://dakotafarmmutual.com/event/cheri-long-lunch-1130-130-8/
END:VEVENT
BEGIN:VEVENT
DTSTART;TZID=America/Chicago:20250205T140000
DTEND;TZID=America/Chicago:20250205T170000
DTSTAMP:20260421T195014
CREATED:20250205T145422Z
LAST-MODIFIED:20250205T145422Z
UID:14445-1738764000-1738774800@dakotafarmmutual.com
SUMMARY:Cindy out @ 2:00
DESCRIPTION:
URL:https://dakotafarmmutual.com/event/cindy-out-200-10/
END:VEVENT
END:VCALENDAR