BEGIN:VCALENDAR
VERSION:2.0
PRODID:-//Dakota Farm Mutual - ECPv6.15.20//NONSGML v1.0//EN
CALSCALE:GREGORIAN
METHOD:PUBLISH
X-ORIGINAL-URL:https://dakotafarmmutual.com
X-WR-CALDESC:Events for Dakota Farm Mutual
REFRESH-INTERVAL;VALUE=DURATION:PT1H
X-Robots-Tag:noindex
X-PUBLISHED-TTL:PT1H
BEGIN:VTIMEZONE
TZID:UTC
BEGIN:STANDARD
TZOFFSETFROM:+0000
TZOFFSETTO:+0000
TZNAME:UTC
DTSTART:20230101T000000
END:STANDARD
END:VTIMEZONE
BEGIN:VEVENT
DTSTART;TZID=UTC:20241128T080000
DTEND;TZID=UTC:20241129T170000
DTSTAMP:20260422T013549
CREATED:20240124T212130Z
LAST-MODIFIED:20240124T212130Z
UID:13557-1732780800-1732899600@dakotafarmmutual.com
SUMMARY:Office Closed - Holiday
DESCRIPTION:
URL:https://dakotafarmmutual.com/event/office-closed-holiday-13/
END:VEVENT
END:VCALENDAR