BEGIN:VCALENDAR
VERSION:2.0
PRODID:-//Dakota Farm Mutual - ECPv6.15.20//NONSGML v1.0//EN
CALSCALE:GREGORIAN
METHOD:PUBLISH
X-ORIGINAL-URL:https://dakotafarmmutual.com
X-WR-CALDESC:Events for Dakota Farm Mutual
REFRESH-INTERVAL;VALUE=DURATION:PT1H
X-Robots-Tag:noindex
X-PUBLISHED-TTL:PT1H
BEGIN:VTIMEZONE
TZID:UTC
BEGIN:STANDARD
TZOFFSETFROM:+0000
TZOFFSETTO:+0000
TZNAME:UTC
DTSTART:20230101T000000
END:STANDARD
END:VTIMEZONE
BEGIN:VEVENT
DTSTART;TZID=UTC:20240920T080000
DTEND;TZID=UTC:20240920T170000
DTSTAMP:20260422T031631
CREATED:20240124T210919Z
LAST-MODIFIED:20240916T234432Z
UID:13534-1726819200-1726851600@dakotafarmmutual.com
SUMMARY:Crystal Out
DESCRIPTION:
URL:https://dakotafarmmutual.com/event/crystal-out-afternoon-151/
END:VEVENT
END:VCALENDAR