BEGIN:VCALENDAR
VERSION:2.0
PRODID:-//Dakota Farm Mutual - ECPv6.15.20//NONSGML v1.0//EN
CALSCALE:GREGORIAN
METHOD:PUBLISH
X-ORIGINAL-URL:https://dakotafarmmutual.com
X-WR-CALDESC:Events for Dakota Farm Mutual
REFRESH-INTERVAL;VALUE=DURATION:PT1H
X-Robots-Tag:noindex
X-PUBLISHED-TTL:PT1H
BEGIN:VTIMEZONE
TZID:America/Chicago
BEGIN:DAYLIGHT
TZOFFSETFROM:-0600
TZOFFSETTO:-0500
TZNAME:CDT
DTSTART:20230312T080000
END:DAYLIGHT
BEGIN:STANDARD
TZOFFSETFROM:-0500
TZOFFSETTO:-0600
TZNAME:CST
DTSTART:20231105T070000
END:STANDARD
BEGIN:DAYLIGHT
TZOFFSETFROM:-0600
TZOFFSETTO:-0500
TZNAME:CDT
DTSTART:20240310T080000
END:DAYLIGHT
BEGIN:STANDARD
TZOFFSETFROM:-0500
TZOFFSETTO:-0600
TZNAME:CST
DTSTART:20241103T070000
END:STANDARD
BEGIN:DAYLIGHT
TZOFFSETFROM:-0600
TZOFFSETTO:-0500
TZNAME:CDT
DTSTART:20250309T080000
END:DAYLIGHT
BEGIN:STANDARD
TZOFFSETFROM:-0500
TZOFFSETTO:-0600
TZNAME:CST
DTSTART:20251102T070000
END:STANDARD
END:VTIMEZONE
BEGIN:VTIMEZONE
TZID:UTC
BEGIN:STANDARD
TZOFFSETFROM:+0000
TZOFFSETTO:+0000
TZNAME:UTC
DTSTART:20230101T000000
END:STANDARD
END:VTIMEZONE
BEGIN:VEVENT
DTSTART;TZID=America/Chicago:20240830T080000
DTEND;TZID=America/Chicago:20240830T090000
DTSTAMP:20260424T053019
CREATED:20240828T154937Z
LAST-MODIFIED:20240828T154937Z
UID:14077-1725004800-1725008400@dakotafarmmutual.com
SUMMARY:Crystal Out Until 9 a.m.
DESCRIPTION:
URL:https://dakotafarmmutual.com/event/crystal-out-until-9-a-m-4/
END:VEVENT
BEGIN:VEVENT
DTSTART;TZID=America/Chicago:20240830T080000
DTEND;TZID=America/Chicago:20240830T170000
DTSTAMP:20260424T053019
CREATED:20240723T150633Z
LAST-MODIFIED:20240723T150633Z
UID:13976-1725004800-1725037200@dakotafarmmutual.com
SUMMARY:Cindy Out
DESCRIPTION:
URL:https://dakotafarmmutual.com/event/cindy-out-168/
END:VEVENT
BEGIN:VEVENT
DTSTART;TZID=America/Chicago:20240830T080000
DTEND;TZID=America/Chicago:20240830T170000
DTSTAMP:20260424T053019
CREATED:20240816T182808Z
LAST-MODIFIED:20240816T182808Z
UID:14050-1725004800-1725037200@dakotafarmmutual.com
SUMMARY:Debra out
DESCRIPTION:
URL:https://dakotafarmmutual.com/event/debra-out-25/
END:VEVENT
BEGIN:VEVENT
DTSTART;TZID=UTC:20240830T120000
DTEND;TZID=UTC:20240830T170000
DTSTAMP:20260424T053019
CREATED:20240104T203148Z
LAST-MODIFIED:20240104T203148Z
UID:13393-1725019200-1725037200@dakotafarmmutual.com
SUMMARY:Cheri out Afternoon
DESCRIPTION:
URL:https://dakotafarmmutual.com/event/cheri-out-afternoon-138/
END:VEVENT
END:VCALENDAR