BEGIN:VCALENDAR
VERSION:2.0
PRODID:-//Dakota Farm Mutual - ECPv6.15.20//NONSGML v1.0//EN
CALSCALE:GREGORIAN
METHOD:PUBLISH
X-ORIGINAL-URL:https://dakotafarmmutual.com
X-WR-CALDESC:Events for Dakota Farm Mutual
REFRESH-INTERVAL;VALUE=DURATION:PT1H
X-Robots-Tag:noindex
X-PUBLISHED-TTL:PT1H
BEGIN:VTIMEZONE
TZID:America/Chicago
BEGIN:DAYLIGHT
TZOFFSETFROM:-0600
TZOFFSETTO:-0500
TZNAME:CDT
DTSTART:20230312T080000
END:DAYLIGHT
BEGIN:STANDARD
TZOFFSETFROM:-0500
TZOFFSETTO:-0600
TZNAME:CST
DTSTART:20231105T070000
END:STANDARD
BEGIN:DAYLIGHT
TZOFFSETFROM:-0600
TZOFFSETTO:-0500
TZNAME:CDT
DTSTART:20240310T080000
END:DAYLIGHT
BEGIN:STANDARD
TZOFFSETFROM:-0500
TZOFFSETTO:-0600
TZNAME:CST
DTSTART:20241103T070000
END:STANDARD
BEGIN:DAYLIGHT
TZOFFSETFROM:-0600
TZOFFSETTO:-0500
TZNAME:CDT
DTSTART:20250309T080000
END:DAYLIGHT
BEGIN:STANDARD
TZOFFSETFROM:-0500
TZOFFSETTO:-0600
TZNAME:CST
DTSTART:20251102T070000
END:STANDARD
END:VTIMEZONE
BEGIN:VEVENT
DTSTART;TZID=America/Chicago:20240801T080000
DTEND;TZID=America/Chicago:20240802T170000
DTSTAMP:20260424T082625
CREATED:20240521T023355Z
LAST-MODIFIED:20240521T023355Z
UID:13840-1722499200-1722618000@dakotafarmmutual.com
SUMMARY:Crystal Out
DESCRIPTION:
URL:https://dakotafarmmutual.com/event/crystal-out-84/
END:VEVENT
BEGIN:VEVENT
DTSTART;TZID=America/Chicago:20240802T080000
DTEND;TZID=America/Chicago:20240802T130000
DTSTAMP:20260424T082625
CREATED:20240726T145623Z
LAST-MODIFIED:20240726T145623Z
UID:13999-1722585600-1722603600@dakotafarmmutual.com
SUMMARY:Debra out am?
DESCRIPTION:
URL:https://dakotafarmmutual.com/event/debra-out-am-3/
END:VEVENT
BEGIN:VEVENT
DTSTART;TZID=America/Chicago:20240802T080000
DTEND;TZID=America/Chicago:20240802T170000
DTSTAMP:20260424T082625
CREATED:20240708T131423Z
LAST-MODIFIED:20240708T131423Z
UID:13920-1722585600-1722618000@dakotafarmmutual.com
SUMMARY:Cindy Out
DESCRIPTION:
URL:https://dakotafarmmutual.com/event/cindy-out-163/
END:VEVENT
END:VCALENDAR