BEGIN:VCALENDAR
VERSION:2.0
PRODID:-//Dakota Farm Mutual - ECPv6.15.20//NONSGML v1.0//EN
CALSCALE:GREGORIAN
METHOD:PUBLISH
X-WR-CALNAME:Dakota Farm Mutual
X-ORIGINAL-URL:https://dakotafarmmutual.com
X-WR-CALDESC:Events for Dakota Farm Mutual
REFRESH-INTERVAL;VALUE=DURATION:PT1H
X-Robots-Tag:noindex
X-PUBLISHED-TTL:PT1H
BEGIN:VTIMEZONE
TZID:UTC
BEGIN:STANDARD
TZOFFSETFROM:+0000
TZOFFSETTO:+0000
TZNAME:UTC
DTSTART:20200101T000000
END:STANDARD
END:VTIMEZONE
BEGIN:VEVENT
DTSTART;TZID=UTC:20211022T080000
DTEND;TZID=UTC:20211022T170000
DTSTAMP:20260423T060335
CREATED:20210805T210516Z
LAST-MODIFIED:20210805T210516Z
UID:5138-1634889600-1634922000@dakotafarmmutual.com
SUMMARY:Crystal Out
DESCRIPTION:
URL:https://dakotafarmmutual.com/event/crystal-out-afternoon-81/
END:VEVENT
BEGIN:VEVENT
DTSTART;TZID=UTC:20211022T160000
DTEND;TZID=UTC:20211022T170000
DTSTAMP:20260423T060335
CREATED:20210831T191134Z
LAST-MODIFIED:20210831T191134Z
UID:5232-1634918400-1634922000@dakotafarmmutual.com
SUMMARY:Cheri out at 4:00
DESCRIPTION:
URL:https://dakotafarmmutual.com/event/cheri-out-at-430-6/
END:VEVENT
END:VCALENDAR