BEGIN:VCALENDAR
VERSION:2.0
PRODID:-//Dakota Farm Mutual - ECPv6.15.20//NONSGML v1.0//EN
CALSCALE:GREGORIAN
METHOD:PUBLISH
X-ORIGINAL-URL:https://dakotafarmmutual.com
X-WR-CALDESC:Events for Dakota Farm Mutual
REFRESH-INTERVAL;VALUE=DURATION:PT1H
X-Robots-Tag:noindex
X-PUBLISHED-TTL:PT1H
BEGIN:VTIMEZONE
TZID:UTC
BEGIN:STANDARD
TZOFFSETFROM:+0000
TZOFFSETTO:+0000
TZNAME:UTC
DTSTART:20200101T000000
END:STANDARD
END:VTIMEZONE
BEGIN:VEVENT
DTSTART;TZID=UTC:20211007T080000
DTEND;TZID=UTC:20211007T170000
DTSTAMP:20260421T123337
CREATED:20210831T190529Z
LAST-MODIFIED:20210831T190529Z
UID:5222-1633593600-1633626000@dakotafarmmutual.com
SUMMARY:Cheri out
DESCRIPTION:
URL:https://dakotafarmmutual.com/event/cheri-out-at-330-5/
END:VEVENT
END:VCALENDAR