BEGIN:VCALENDAR
VERSION:2.0
PRODID:-//Dakota Farm Mutual - ECPv6.15.20//NONSGML v1.0//EN
CALSCALE:GREGORIAN
METHOD:PUBLISH
X-WR-CALNAME:Dakota Farm Mutual
X-ORIGINAL-URL:https://dakotafarmmutual.com
X-WR-CALDESC:Events for Dakota Farm Mutual
REFRESH-INTERVAL;VALUE=DURATION:PT1H
X-Robots-Tag:noindex
X-PUBLISHED-TTL:PT1H
BEGIN:VTIMEZONE
TZID:UTC
BEGIN:STANDARD
TZOFFSETFROM:+0000
TZOFFSETTO:+0000
TZNAME:UTC
DTSTART:20200101T000000
END:STANDARD
END:VTIMEZONE
BEGIN:VEVENT
DTSTART;TZID=UTC:20210923T080000
DTEND;TZID=UTC:20210923T170000
DTSTAMP:20260422T152208
CREATED:20210922T174553Z
LAST-MODIFIED:20210922T174553Z
UID:5333-1632384000-1632416400@dakotafarmmutual.com
SUMMARY:Crystal Out Afternoon
DESCRIPTION:
URL:https://dakotafarmmutual.com/event/crystal-out-afternoon-89/
END:VEVENT
BEGIN:VEVENT
DTSTART;TZID=UTC:20210923T150000
DTEND;TZID=UTC:20210923T170000
DTSTAMP:20260422T152208
CREATED:20210831T190308Z
LAST-MODIFIED:20210831T190308Z
UID:5214-1632409200-1632416400@dakotafarmmutual.com
SUMMARY:Cheri out at 3
DESCRIPTION:
URL:https://dakotafarmmutual.com/event/cheri-out-at-3-7/
END:VEVENT
END:VCALENDAR