BEGIN:VCALENDAR
VERSION:2.0
PRODID:-//Dakota Farm Mutual - ECPv6.15.20//NONSGML v1.0//EN
CALSCALE:GREGORIAN
METHOD:PUBLISH
X-WR-CALNAME:Dakota Farm Mutual
X-ORIGINAL-URL:https://dakotafarmmutual.com
X-WR-CALDESC:Events for Dakota Farm Mutual
REFRESH-INTERVAL;VALUE=DURATION:PT1H
X-Robots-Tag:noindex
X-PUBLISHED-TTL:PT1H
BEGIN:VTIMEZONE
TZID:UTC
BEGIN:STANDARD
TZOFFSETFROM:+0000
TZOFFSETTO:+0000
TZNAME:UTC
DTSTART:20200101T000000
END:STANDARD
END:VTIMEZONE
BEGIN:VEVENT
DTSTART;TZID=UTC:20210916T080000
DTEND;TZID=UTC:20210916T170000
DTSTAMP:20260422T224444
CREATED:20210630T021321Z
LAST-MODIFIED:20210630T021321Z
UID:5068-1631779200-1631811600@dakotafarmmutual.com
SUMMARY:Bottled Water Delivery
DESCRIPTION:
URL:https://dakotafarmmutual.com/event/bottled-water-delivery-12/
END:VEVENT
BEGIN:VEVENT
DTSTART;TZID=UTC:20210916T143000
DTEND;TZID=UTC:20210916T170000
DTSTAMP:20260422T224444
CREATED:20210716T012248Z
LAST-MODIFIED:20210716T012248Z
UID:5093-1631802600-1631811600@dakotafarmmutual.com
SUMMARY:Cheri out @ 2:30
DESCRIPTION:
URL:https://dakotafarmmutual.com/event/cheri-out-230/
END:VEVENT
BEGIN:VEVENT
DTSTART;TZID=UTC:20210916T163000
DTEND;TZID=UTC:20210916T170000
DTSTAMP:20260422T224444
CREATED:20210908T181717Z
LAST-MODIFIED:20210908T181717Z
UID:5271-1631809800-1631811600@dakotafarmmutual.com
SUMMARY:Alissa Out @ 4:30
DESCRIPTION:
URL:https://dakotafarmmutual.com/event/alissa-out-430-8/
END:VEVENT
END:VCALENDAR