BEGIN:VCALENDAR
VERSION:2.0
PRODID:-//Dakota Farm Mutual - ECPv6.15.20//NONSGML v1.0//EN
CALSCALE:GREGORIAN
METHOD:PUBLISH
X-ORIGINAL-URL:https://dakotafarmmutual.com
X-WR-CALDESC:Events for Dakota Farm Mutual
REFRESH-INTERVAL;VALUE=DURATION:PT1H
X-Robots-Tag:noindex
X-PUBLISHED-TTL:PT1H
BEGIN:VTIMEZONE
TZID:UTC
BEGIN:STANDARD
TZOFFSETFROM:+0000
TZOFFSETTO:+0000
TZNAME:UTC
DTSTART:20200101T000000
END:STANDARD
END:VTIMEZONE
BEGIN:VEVENT
DTSTART;TZID=UTC:20210830T130000
DTEND;TZID=UTC:20210830T170000
DTSTAMP:20260421T173022
CREATED:20210817T020130Z
LAST-MODIFIED:20210817T020130Z
UID:5154-1630328400-1630342800@dakotafarmmutual.com
SUMMARY:Crystal Out Afternoon
DESCRIPTION:
URL:https://dakotafarmmutual.com/event/crystal-out-afternoon-82/
END:VEVENT
BEGIN:VEVENT
DTSTART;TZID=UTC:20210830T160000
DTEND;TZID=UTC:20210830T170000
DTSTAMP:20260421T173022
CREATED:20210831T020439Z
LAST-MODIFIED:20210831T020439Z
UID:5200-1630339200-1630342800@dakotafarmmutual.com
SUMMARY:Alissa Out @ 4:15
DESCRIPTION:
URL:https://dakotafarmmutual.com/event/alissa-out-415/
END:VEVENT
END:VCALENDAR