BEGIN:VCALENDAR
VERSION:2.0
PRODID:-//Dakota Farm Mutual - ECPv6.15.20//NONSGML v1.0//EN
CALSCALE:GREGORIAN
METHOD:PUBLISH
X-ORIGINAL-URL:https://dakotafarmmutual.com
X-WR-CALDESC:Events for Dakota Farm Mutual
REFRESH-INTERVAL;VALUE=DURATION:PT1H
X-Robots-Tag:noindex
X-PUBLISHED-TTL:PT1H
BEGIN:VTIMEZONE
TZID:UTC
BEGIN:STANDARD
TZOFFSETFROM:+0000
TZOFFSETTO:+0000
TZNAME:UTC
DTSTART:20200101T000000
END:STANDARD
END:VTIMEZONE
BEGIN:VEVENT
DTSTART;TZID=UTC:20210820T080000
DTEND;TZID=UTC:20210820T170000
DTSTAMP:20260425T090334
CREATED:20210121T202139Z
LAST-MODIFIED:20210121T202139Z
UID:4561-1629446400-1629478800@dakotafarmmutual.com
SUMMARY:Alissa Out
DESCRIPTION:
URL:https://dakotafarmmutual.com/event/alissa-out-afternoon-70/
END:VEVENT
BEGIN:VEVENT
DTSTART;TZID=UTC:20210820T120000
DTEND;TZID=UTC:20210820T170000
DTSTAMP:20260425T090334
CREATED:20210107T213130Z
LAST-MODIFIED:20210107T213130Z
UID:4493-1629460800-1629478800@dakotafarmmutual.com
SUMMARY:Cheri Out
DESCRIPTION:
URL:https://dakotafarmmutual.com/event/cheri-out-afternoon-66/
END:VEVENT
END:VCALENDAR