BEGIN:VCALENDAR
VERSION:2.0
PRODID:-//Dakota Farm Mutual - ECPv6.15.20//NONSGML v1.0//EN
CALSCALE:GREGORIAN
METHOD:PUBLISH
X-ORIGINAL-URL:https://dakotafarmmutual.com
X-WR-CALDESC:Events for Dakota Farm Mutual
REFRESH-INTERVAL;VALUE=DURATION:PT1H
X-Robots-Tag:noindex
X-PUBLISHED-TTL:PT1H
BEGIN:VTIMEZONE
TZID:UTC
BEGIN:STANDARD
TZOFFSETFROM:+0000
TZOFFSETTO:+0000
TZNAME:UTC
DTSTART:20200101T000000
END:STANDARD
END:VTIMEZONE
BEGIN:VEVENT
DTSTART;TZID=UTC:20210805T133000
DTEND;TZID=UTC:20210805T170000
DTSTAMP:20260423T041656
CREATED:20210709T230933Z
LAST-MODIFIED:20210709T230933Z
UID:5083-1628170200-1628182800@dakotafarmmutual.com
SUMMARY:Dakota Board Meeting - 1:30 p.m.
DESCRIPTION:
URL:https://dakotafarmmutual.com/event/dakota-board-meeting-1030-a-m/
END:VEVENT
END:VCALENDAR