BEGIN:VCALENDAR
VERSION:2.0
PRODID:-//Dakota Farm Mutual - ECPv6.15.20//NONSGML v1.0//EN
CALSCALE:GREGORIAN
METHOD:PUBLISH
X-ORIGINAL-URL:https://dakotafarmmutual.com
X-WR-CALDESC:Events for Dakota Farm Mutual
REFRESH-INTERVAL;VALUE=DURATION:PT1H
X-Robots-Tag:noindex
X-PUBLISHED-TTL:PT1H
BEGIN:VTIMEZONE
TZID:UTC
BEGIN:STANDARD
TZOFFSETFROM:+0000
TZOFFSETTO:+0000
TZNAME:UTC
DTSTART:20200101T000000
END:STANDARD
END:VTIMEZONE
BEGIN:VEVENT
DTSTART;TZID=UTC:20210719T080000
DTEND;TZID=UTC:20210723T170000
DTSTAMP:20260425T201559
CREATED:20201224T045643Z
LAST-MODIFIED:20201224T045643Z
UID:4425-1626681600-1627059600@dakotafarmmutual.com
SUMMARY:Crystal Out
DESCRIPTION:
URL:https://dakotafarmmutual.com/event/crystal-out-at-330-p-m-8/
END:VEVENT
BEGIN:VEVENT
DTSTART;TZID=UTC:20210721T080000
DTEND;TZID=UTC:20210721T170000
DTSTAMP:20260425T201559
CREATED:20201203T011009Z
LAST-MODIFIED:20201203T011009Z
UID:4337-1626854400-1626886800@dakotafarmmutual.com
SUMMARY:Bottled Water Delivery
DESCRIPTION:
URL:https://dakotafarmmutual.com/event/bottled-water-delivery-13/
END:VEVENT
BEGIN:VEVENT
DTSTART;TZID=UTC:20210721T080000
DTEND;TZID=UTC:20210721T170000
DTSTAMP:20260425T201559
CREATED:20210625T013300Z
LAST-MODIFIED:20210625T013300Z
UID:5044-1626854400-1626886800@dakotafarmmutual.com
SUMMARY:Cindy Out
DESCRIPTION:
URL:https://dakotafarmmutual.com/event/cindy-out-31/
END:VEVENT
BEGIN:VEVENT
DTSTART;TZID=UTC:20210721T150000
DTEND;TZID=UTC:20210721T170000
DTSTAMP:20260425T201559
CREATED:20210721T184715Z
LAST-MODIFIED:20210721T184715Z
UID:5106-1626879600-1626886800@dakotafarmmutual.com
SUMMARY:Cheri out at 3
DESCRIPTION:
URL:https://dakotafarmmutual.com/event/cheri-out-at-3-6/
END:VEVENT
END:VCALENDAR