BEGIN:VCALENDAR
VERSION:2.0
PRODID:-//Dakota Farm Mutual - ECPv6.15.20//NONSGML v1.0//EN
CALSCALE:GREGORIAN
METHOD:PUBLISH
X-WR-CALNAME:Dakota Farm Mutual
X-ORIGINAL-URL:https://dakotafarmmutual.com
X-WR-CALDESC:Events for Dakota Farm Mutual
REFRESH-INTERVAL;VALUE=DURATION:PT1H
X-Robots-Tag:noindex
X-PUBLISHED-TTL:PT1H
BEGIN:VTIMEZONE
TZID:UTC
BEGIN:STANDARD
TZOFFSETFROM:+0000
TZOFFSETTO:+0000
TZNAME:UTC
DTSTART:20200101T000000
END:STANDARD
END:VTIMEZONE
BEGIN:VEVENT
DTSTART;TZID=UTC:20210713T080000
DTEND;TZID=UTC:20210716T170000
DTSTAMP:20260425T153138
CREATED:20210122T231132Z
LAST-MODIFIED:20210122T231132Z
UID:4585-1626163200-1626454800@dakotafarmmutual.com
SUMMARY:Alissa Out - KATP
DESCRIPTION:
URL:https://dakotafarmmutual.com/event/alissa-out-katp/
END:VEVENT
BEGIN:VEVENT
DTSTART;TZID=UTC:20210715T080000
DTEND;TZID=UTC:20210715T170000
DTSTAMP:20260425T153138
CREATED:20210707T201312Z
LAST-MODIFIED:20210707T201312Z
UID:5078-1626336000-1626368400@dakotafarmmutual.com
SUMMARY:Crystal Out A.M.
DESCRIPTION:
URL:https://dakotafarmmutual.com/event/crystal-out-a-m-26/
END:VEVENT
BEGIN:VEVENT
DTSTART;TZID=UTC:20210715T163000
DTEND;TZID=UTC:20210715T170000
DTSTAMP:20260425T153138
CREATED:20210716T012553Z
LAST-MODIFIED:20210716T012553Z
UID:5099-1626366600-1626368400@dakotafarmmutual.com
SUMMARY:Cheri out at 4:30
DESCRIPTION:
URL:https://dakotafarmmutual.com/event/cheri-out-at-430-3/
END:VEVENT
END:VCALENDAR