BEGIN:VCALENDAR
VERSION:2.0
PRODID:-//Dakota Farm Mutual - ECPv6.15.20//NONSGML v1.0//EN
CALSCALE:GREGORIAN
METHOD:PUBLISH
X-WR-CALNAME:Dakota Farm Mutual
X-ORIGINAL-URL:https://dakotafarmmutual.com
X-WR-CALDESC:Events for Dakota Farm Mutual
REFRESH-INTERVAL;VALUE=DURATION:PT1H
X-Robots-Tag:noindex
X-PUBLISHED-TTL:PT1H
BEGIN:VTIMEZONE
TZID:UTC
BEGIN:STANDARD
TZOFFSETFROM:+0000
TZOFFSETTO:+0000
TZNAME:UTC
DTSTART:20200101T000000
END:STANDARD
END:VTIMEZONE
BEGIN:VEVENT
DTSTART;TZID=UTC:20210701T080000
DTEND;TZID=UTC:20210702T170000
DTSTAMP:20260425T090427
CREATED:20210123T031219Z
LAST-MODIFIED:20210123T031219Z
UID:4606-1625126400-1625245200@dakotafarmmutual.com
SUMMARY:Crystal Out
DESCRIPTION:
URL:https://dakotafarmmutual.com/event/crystal-out-afternoon-71/
END:VEVENT
BEGIN:VEVENT
DTSTART;TZID=UTC:20210702T080000
DTEND;TZID=UTC:20210702T170000
DTSTAMP:20260425T090427
CREATED:20210330T231640Z
LAST-MODIFIED:20210330T231640Z
UID:4864-1625212800-1625245200@dakotafarmmutual.com
SUMMARY:Cindy Out
DESCRIPTION:
URL:https://dakotafarmmutual.com/event/cindy-out-21/
END:VEVENT
BEGIN:VEVENT
DTSTART;TZID=UTC:20210702T140000
DTEND;TZID=UTC:20210702T170000
DTSTAMP:20260425T090427
CREATED:20210625T022054Z
LAST-MODIFIED:20210625T022054Z
UID:5061-1625234400-1625245200@dakotafarmmutual.com
SUMMARY:Alissa Out @ 2
DESCRIPTION:
URL:https://dakotafarmmutual.com/event/alissa-out-2-3/
END:VEVENT
END:VCALENDAR