BEGIN:VCALENDAR
VERSION:2.0
PRODID:-//Dakota Farm Mutual - ECPv6.15.20//NONSGML v1.0//EN
CALSCALE:GREGORIAN
METHOD:PUBLISH
X-ORIGINAL-URL:https://dakotafarmmutual.com
X-WR-CALDESC:Events for Dakota Farm Mutual
REFRESH-INTERVAL;VALUE=DURATION:PT1H
X-Robots-Tag:noindex
X-PUBLISHED-TTL:PT1H
BEGIN:VTIMEZONE
TZID:UTC
BEGIN:STANDARD
TZOFFSETFROM:+0000
TZOFFSETTO:+0000
TZNAME:UTC
DTSTART:20200101T000000
END:STANDARD
END:VTIMEZONE
BEGIN:VEVENT
DTSTART;TZID=UTC:20210616T080000
DTEND;TZID=UTC:20210618T170000
DTSTAMP:20260425T185044
CREATED:20210430T022757Z
LAST-MODIFIED:20210430T022757Z
UID:4927-1623830400-1624035600@dakotafarmmutual.com
SUMMARY:Crystal Out-Convention
DESCRIPTION:
URL:https://dakotafarmmutual.com/event/crystal-out-convention/
END:VEVENT
END:VCALENDAR