BEGIN:VCALENDAR
VERSION:2.0
PRODID:-//Dakota Farm Mutual - ECPv6.15.20//NONSGML v1.0//EN
CALSCALE:GREGORIAN
METHOD:PUBLISH
X-WR-CALNAME:Dakota Farm Mutual
X-ORIGINAL-URL:https://dakotafarmmutual.com
X-WR-CALDESC:Events for Dakota Farm Mutual
REFRESH-INTERVAL;VALUE=DURATION:PT1H
X-Robots-Tag:noindex
X-PUBLISHED-TTL:PT1H
BEGIN:VTIMEZONE
TZID:UTC
BEGIN:STANDARD
TZOFFSETFROM:+0000
TZOFFSETTO:+0000
TZNAME:UTC
DTSTART:20200101T000000
END:STANDARD
END:VTIMEZONE
BEGIN:VEVENT
DTSTART;TZID=UTC:20210608T150000
DTEND;TZID=UTC:20210608T170000
DTSTAMP:20260425T203101
CREATED:20210426T211234Z
LAST-MODIFIED:20210426T211234Z
UID:4920-1623164400-1623171600@dakotafarmmutual.com
SUMMARY:Humboldt Annual Meeting
DESCRIPTION:
URL:https://dakotafarmmutual.com/event/humboldt-annual-meeting/
END:VEVENT
END:VCALENDAR